BEGIN:VCALENDAR
VERSION:2.0
PRODID:-//SSAC Hockey - ECPv4.5.7//NONSGML v1.0//EN
CALSCALE:GREGORIAN
METHOD:PUBLISH
X-WR-CALNAME:SSAC Hockey
X-ORIGINAL-URL:https://ssac.hockey
X-WR-CALDESC:Events for SSAC Hockey
BEGIN:VEVENT
DTSTART;TZID=America/Edmonton:20251122T124500
DTEND;TZID=America/Edmonton:20251122T134500
DTSTAMP:20260423T012058
CREATED:20251102T023053Z
LAST-MODIFIED:20251102T023053Z
UID:<span 
                data-original-string="88r7Uz6sAu+yvNNdlC7d4g==052v/Ks++AwMHtPG3wltUW7+D1TJJfCkMGKRNVbO69FnP0ST/nmJQ7IkmSOuD4gPP2y"
                class="apbct-email-encoder"
                title="This contact has been encoded by Anti-Spam by CleanTalk. Click to decode. To finish the decoding make sure that JavaScript is enabled in your browser.">42<span class="apbct-blur">*************************@ss**.hock</span>ey</span>
SUMMARY:U16 AA Practice 12:45 SSA
DESCRIPTION:U16 AA Cameron Homes @ George S Hughes South Side \n
URL:https://ssac.hockey/event/u16-aa-practice-1245-ssa/
LOCATION:10525 72 Ave. NW\, Edmonton\, AB\, T6E 0Z7\, Canada
CATEGORIES:U16 AA,U16 AA Cameron Homes
END:VEVENT
END:VCALENDAR