BEGIN:VCALENDAR
VERSION:2.0
PRODID:-//SSAC Hockey - ECPv4.5.7//NONSGML v1.0//EN
CALSCALE:GREGORIAN
METHOD:PUBLISH
X-WR-CALNAME:SSAC Hockey
X-ORIGINAL-URL:https://ssac.hockey
X-WR-CALDESC:Events for SSAC Hockey
BEGIN:VEVENT
DTSTART;TZID=America/Edmonton:20251116T211500
DTEND;TZID=America/Edmonton:20251116T221500
DTSTAMP:20260423T012007
CREATED:20251028T022253Z
LAST-MODIFIED:20251028T022253Z
UID:<span 
                data-original-string="iktcyLntXQtRiNgI59Za8Q==052gZQWv/MkQVkP6rug31g3cpuWbgstqjlm8q1r4TV2JHmrgH2QItlJZleb20l93+TM"
                class="apbct-email-encoder"
                title="This contact has been encoded by Anti-Spam by CleanTalk. Click to decode. To finish the decoding make sure that JavaScript is enabled in your browser.">42<span class="apbct-blur">*************************@ss**.hock</span>ey</span>
SUMMARY:U16 AA Practice 21:15 TCC
DESCRIPTION:U16 AA Cameron Homes @ Terwillegar C \n
URL:https://ssac.hockey/event/u16-aa-practice-2115-tcc-4/
LOCATION:2051 Leger Rd NW\, Edmonton\, AB\, T6R 0R8\, Canada
CATEGORIES:U16 AA,U16 AA Cameron Homes
END:VEVENT
END:VCALENDAR