BEGIN:VCALENDAR
VERSION:2.0
PRODID:-//SSAC Hockey - ECPv4.5.7//NONSGML v1.0//EN
CALSCALE:GREGORIAN
METHOD:PUBLISH
X-WR-CALNAME:SSAC Hockey
X-ORIGINAL-URL:https://ssac.hockey
X-WR-CALDESC:Events for SSAC Hockey
BEGIN:VEVENT
DTSTART;TZID=America/Edmonton:20251115T120000
DTEND;TZID=America/Edmonton:20251115T141500
DTSTAMP:20260423T012141
CREATED:20251024T222221Z
LAST-MODIFIED:20251024T222221Z
UID:<span 
                data-original-string="TEIMb30bVs0M7A2HmOgQ2Q==052JDLvrkb3Qs7ZL/OuuJSZyRpMXW2IhPHT6HBavyD4xRM7j8M9+iCz8y1C5VQ2jtI6"
                class="apbct-email-encoder"
                title="This contact has been encoded by Anti-Spam by CleanTalk. Click to decode. To finish the decoding make sure that JavaScript is enabled in your browser.">41<span class="apbct-blur">*************************@ss**.hock</span>ey</span>
SUMMARY:U16 AA Game 12:00 RJL
DESCRIPTION:U16 AA Cameron Homes at Lakeland Panthers @ RJ Lalonde | Bonnyville \n
URL:https://ssac.hockey/event/u16-aa-game-1200-rjl/
LOCATION:4313 50 Ave\, Bonnyville\, AB\, T9N 2J7 \, Canada
CATEGORIES:U16 AA,U16 AA Cameron Homes
END:VEVENT
END:VCALENDAR