BEGIN:VCALENDAR
VERSION:2.0
PRODID:-//SSAC Hockey - ECPv4.5.7//NONSGML v1.0//EN
CALSCALE:GREGORIAN
METHOD:PUBLISH
X-WR-CALNAME:SSAC Hockey
X-ORIGINAL-URL:https://ssac.hockey
X-WR-CALDESC:Events for SSAC Hockey
BEGIN:VEVENT
DTSTART;TZID=America/Edmonton:20251113T211500
DTEND;TZID=America/Edmonton:20251113T221500
DTSTAMP:20260423T010901
CREATED:20251024T222218Z
LAST-MODIFIED:20251105T202147Z
UID:<span 
                data-original-string="BY1esDiFdrgQAlzECHDK0w==052wWdtIQm0wyaaVeeeD9alNYtK6KfDeBphrHuL0P99oIZDKDJ8+XCftgC4AjZf3mZ+"
                class="apbct-email-encoder"
                title="This contact has been encoded by Anti-Spam by CleanTalk. Click to decode. To finish the decoding make sure that JavaScript is enabled in your browser.">41<span class="apbct-blur">*************************@ss**.hock</span>ey</span>
SUMMARY:U16 AA Practice 21:15 SSA
DESCRIPTION:U16 AA Cameron Homes @ George S Hughes South Side \n
URL:https://ssac.hockey/event/u16-aa-practice-2000-ssa-4/
LOCATION:10525 72 Ave. NW\, Edmonton\, AB\, T6E 0Z7\, Canada
CATEGORIES:U16 AA,U16 AA Cameron Homes
END:VEVENT
END:VCALENDAR