BEGIN:VCALENDAR
VERSION:2.0
PRODID:-//SSAC Hockey - ECPv4.5.7//NONSGML v1.0//EN
CALSCALE:GREGORIAN
METHOD:PUBLISH
X-WR-CALNAME:SSAC Hockey
X-ORIGINAL-URL:https://ssac.hockey
X-WR-CALDESC:Events for SSAC Hockey
BEGIN:VEVENT
DTSTART;TZID=America/Edmonton:20251112T194500
DTEND;TZID=America/Edmonton:20251112T220000
DTSTAMP:20260423T012058
CREATED:20251024T222220Z
LAST-MODIFIED:20251024T222220Z
UID:<span 
                data-original-string="6KbKqmjC7/fRlPC8z2OD7A==052aTM977bMli6dRGXN+SgTNToFnkByoJotPgr3Eho2iJOxvVaMrf5j6dfxhnSX1Kgi"
                class="apbct-email-encoder"
                title="This contact has been encoded by Anti-Spam by CleanTalk. Click to decode. To finish the decoding make sure that JavaScript is enabled in your browser.">41<span class="apbct-blur">*************************@ss**.hock</span>ey</span>
SUMMARY:U16 AA Game 19:45 TCD
DESCRIPTION:U16 AA Cameron Homes vs CAC United Cycle @ Terwillegar D \n
URL:https://ssac.hockey/event/u16-aa-game-1945-tcd-3/
LOCATION:2051 Leger Rd NW\, Edmonton\, AB\, T6R 0R8\, Canada
CATEGORIES:U16 AA,U16 AA Cameron Homes
END:VEVENT
END:VCALENDAR