BEGIN:VCALENDAR
VERSION:2.0
PRODID:-//SSAC Hockey - ECPv4.5.7//NONSGML v1.0//EN
CALSCALE:GREGORIAN
METHOD:PUBLISH
X-WR-CALNAME:SSAC Hockey
X-ORIGINAL-URL:https://ssac.hockey
X-WR-CALDESC:Events for SSAC Hockey
BEGIN:VEVENT
DTSTART;VALUE=DATE:20251107
DTEND;VALUE=DATE:20251110
DTSTAMP:20260423T012141
CREATED:20251024T222223Z
LAST-MODIFIED:20251024T222223Z
UID:<span 
                data-original-string="soOPSPHK0IKwrm1cr0EURg==052OBsOy7mRAkN33FgDKXrsh2Ex8KaMCOmS0Ei3muDIx9MfFkR+te1yb/DRAICBM3gD"
                class="apbct-email-encoder"
                title="This contact has been encoded by Anti-Spam by CleanTalk. Click to decode. To finish the decoding make sure that JavaScript is enabled in your browser.">41<span class="apbct-blur">*************************@ss**.hock</span>ey</span>
SUMMARY:U16 AA Remembrance Day Memorial Tournament
DESCRIPTION:U16 AA Cameron Homes at Remembrance Day Memorial Tournament @ Okanagan | Penticton \n
URL:https://ssac.hockey/event/u16-aa-remembrance-day-memorial-tournament/
CATEGORIES:U16 AA,U16 AA Cameron Homes
END:VEVENT
END:VCALENDAR