BEGIN:VCALENDAR
VERSION:2.0
PRODID:-//SSAC Hockey - ECPv4.5.7//NONSGML v1.0//EN
CALSCALE:GREGORIAN
METHOD:PUBLISH
X-WR-CALNAME:SSAC Hockey
X-ORIGINAL-URL:https://ssac.hockey
X-WR-CALDESC:Events for SSAC Hockey
BEGIN:VEVENT
DTSTART;TZID=America/Edmonton:20251106T194500
DTEND;TZID=America/Edmonton:20251106T204500
DTSTAMP:20260423T010355
CREATED:20251102T023052Z
LAST-MODIFIED:20251102T023052Z
UID:<span 
                data-original-string="zQYRyD8vmux6ohNvnJ7ZIw==052eVRAL7gpTukjY5ZiAfzqphfYrhlLtZVXdVpwXOiIuFlAAAWeggRU6fXXdeOxN7Du"
                class="apbct-email-encoder"
                title="This contact has been encoded by Anti-Spam by CleanTalk. Click to decode. To finish the decoding make sure that JavaScript is enabled in your browser.">42<span class="apbct-blur">*************************@ss**.hock</span>ey</span>
SUMMARY:U16 AA Practice 19:45 KMB
DESCRIPTION:U16 AA Cameron Homes @ Kinsmen B \n
URL:https://ssac.hockey/event/u16-aa-practice-1945-kmb-6/
LOCATION:1979 111 St NW\, Edmonton\, AB\, T6J 7C6\, Canada
CATEGORIES:U16 AA,U16 AA Cameron Homes
END:VEVENT
END:VCALENDAR