BEGIN:VCALENDAR
VERSION:2.0
PRODID:-//SSAC Hockey - ECPv4.5.7//NONSGML v1.0//EN
CALSCALE:GREGORIAN
METHOD:PUBLISH
X-WR-CALNAME:SSAC Hockey
X-ORIGINAL-URL:https://ssac.hockey
X-WR-CALDESC:Events for SSAC Hockey
BEGIN:VEVENT
DTSTART;TZID=America/Edmonton:20251104T213000
DTEND;TZID=America/Edmonton:20251104T223000
DTSTAMP:20260423T011805
CREATED:20251024T222214Z
LAST-MODIFIED:20251110T235702Z
UID:<span 
                data-original-string="oW/eOK8EObkT+LiP+wIV3A==052rdHAnGsNr9uUpatEjCmzSJi/2Rvc9GfjqAUmcLuI+qZJzsVLwBBH8JMR6XTtH2mg"
                class="apbct-email-encoder"
                title="This contact has been encoded by Anti-Spam by CleanTalk. Click to decode. To finish the decoding make sure that JavaScript is enabled in your browser.">41<span class="apbct-blur">*************************@ss**.hock</span>ey</span>
SUMMARY:U16 AA Practice 21:30 KMA
DESCRIPTION:U16 AA Cameron Homes @ Kinsmen A \n
URL:https://ssac.hockey/event/u16-aa-practice-2115-kma-24/
LOCATION:1979 111 St NW\, Edmonton\, AB\, T6J 7C6\, Canada
CATEGORIES:U16 AA,U16 AA Cameron Homes
END:VEVENT
END:VCALENDAR