BEGIN:VCALENDAR
VERSION:2.0
PRODID:-//SSAC Hockey - ECPv4.5.7//NONSGML v1.0//EN
CALSCALE:GREGORIAN
METHOD:PUBLISH
X-WR-CALNAME:SSAC Hockey
X-ORIGINAL-URL:https://ssac.hockey
X-WR-CALDESC:Events for SSAC Hockey
BEGIN:VEVENT
DTSTART;TZID=America/Edmonton:20251026T193000
DTEND;TZID=America/Edmonton:20251026T203000
DTSTAMP:20260423T011934
CREATED:20250926T043628Z
LAST-MODIFIED:20250926T043628Z
UID:<span 
                data-original-string="RxYnNXkTbkSYjQ0IHyybPg==052N4jagaPr031YpB4XZDyE5fJL5hPVEkGLOnl7v5S3AmO6aUgOlnDE2TswEDyXOOfQ"
                class="apbct-email-encoder"
                title="This contact has been encoded by Anti-Spam by CleanTalk. Click to decode. To finish the decoding make sure that JavaScript is enabled in your browser.">41<span class="apbct-blur">*************************@ss**.hock</span>ey</span>
SUMMARY:U16 AA Practice 19:30 TCB
DESCRIPTION:U16 AA Cameron Homes @ Terwillegar B \n
URL:https://ssac.hockey/event/u16-aa-practice-1930-tcb-3/
LOCATION:2051 Leger Rd NW\, Edmonton\, AB\, T6R 0R8\, Canada
CATEGORIES:U16 AA,U16 AA Cameron Homes
END:VEVENT
END:VCALENDAR