BEGIN:VCALENDAR
VERSION:2.0
PRODID:-//SSAC Hockey - ECPv4.5.7//NONSGML v1.0//EN
CALSCALE:GREGORIAN
METHOD:PUBLISH
X-WR-CALNAME:SSAC Hockey
X-ORIGINAL-URL:https://ssac.hockey
X-WR-CALDESC:Events for SSAC Hockey
BEGIN:VEVENT
DTSTART;TZID=America/Edmonton:20251016T211500
DTEND;TZID=America/Edmonton:20251016T221500
DTSTAMP:20260423T031516
CREATED:20250926T043633Z
LAST-MODIFIED:20250926T043633Z
UID:<span 
                data-original-string="x2y34SelPib/GFTCimKFwQ==052squ51dvESn11+5pbHEfA/HU/VzuJ0KSwzN/sx+FOOC90FoH+TGL5F/hhPcktGavo"
                class="apbct-email-encoder"
                title="This contact has been encoded by Anti-Spam by CleanTalk. Click to decode. To finish the decoding make sure that JavaScript is enabled in your browser.">41<span class="apbct-blur">*************************@ss**.hock</span>ey</span>
SUMMARY:U16 AA Practice 21:15 SSA
DESCRIPTION:U16 AA Cameron Homes @ George S Hughes South Side \n
URL:https://ssac.hockey/event/u16-aa-practice-2115-ssa-14/
LOCATION:10525 72 Ave. NW\, Edmonton\, AB\, T6E 0Z7\, Canada
CATEGORIES:U16 AA,U16 AA Cameron Homes
END:VEVENT
END:VCALENDAR