BEGIN:VCALENDAR
VERSION:2.0
PRODID:-//SSAC Hockey - ECPv4.5.7//NONSGML v1.0//EN
CALSCALE:GREGORIAN
METHOD:PUBLISH
X-WR-CALNAME:SSAC Hockey
X-ORIGINAL-URL:https://ssac.hockey
X-WR-CALDESC:Events for SSAC Hockey
BEGIN:VEVENT
DTSTART;TZID=America/Edmonton:20251012T193000
DTEND;TZID=America/Edmonton:20251012T214500
DTSTAMP:20260423T031629
CREATED:20250926T043636Z
LAST-MODIFIED:20250926T043636Z
UID:<span 
                data-original-string="DZa29CE/6AUoUiRN52+1ug==052bXZM3NIVROTiwYVQ8e//6rL0PP7UkqbzuZOpBy2PAa6X1k9NcqSeKHgA82oEDk4t"
                class="apbct-email-encoder"
                title="This contact has been encoded by Anti-Spam by CleanTalk. Click to decode. To finish the decoding make sure that JavaScript is enabled in your browser.">41<span class="apbct-blur">*************************@ss**.hock</span>ey</span>
SUMMARY:U16 AA Game 19:30 CFA
DESCRIPTION:U16 AA Cameron Homes vs KC Spurs @ Confederation \n
URL:https://ssac.hockey/event/u16-aa-game-1930-cfa/
LOCATION:11204 43 Ave NW\, Edmonton\, AB\, T6J 2R3\, Canada
CATEGORIES:U16 AA,U16 AA Cameron Homes
END:VEVENT
END:VCALENDAR