BEGIN:VCALENDAR
VERSION:2.0
PRODID:-//SSAC Hockey - ECPv4.5.7//NONSGML v1.0//EN
CALSCALE:GREGORIAN
METHOD:PUBLISH
X-WR-CALNAME:SSAC Hockey
X-ORIGINAL-URL:https://ssac.hockey
X-WR-CALDESC:Events for SSAC Hockey
BEGIN:VEVENT
DTSTART;TZID=America/Edmonton:20250923T213000
DTEND;TZID=America/Edmonton:20250923T223000
DTSTAMP:20260423T045620
CREATED:20250916T193216Z
LAST-MODIFIED:20250916T193216Z
UID:<span 
                data-original-string="dvjfyjBNkFXMJeaTeg2Q1A==052oydHOazSU1ZRfLlZlFBufA4Qm7/UlOWgcwMoh6Z/r/jwkAzLnrizFbC05ebM6Sll"
                class="apbct-email-encoder"
                title="This contact has been encoded by Anti-Spam by CleanTalk. Click to decode. To finish the decoding make sure that JavaScript is enabled in your browser.">40<span class="apbct-blur">*************************@ss**.hock</span>ey</span>
SUMMARY:U16 AA Practice 21:30 KMA
DESCRIPTION:U16 AA Cameron Homes @ Kinsmen A \n
URL:https://ssac.hockey/event/u16-aa-practice-2130-kma/
LOCATION:1979 111 St NW\, Edmonton\, AB\, T6J 7C6\, Canada
CATEGORIES:U16 AA,U16 AA Cameron Homes
END:VEVENT
END:VCALENDAR