BEGIN:VCALENDAR
VERSION:2.0
PRODID:-//SSAC Hockey - ECPv4.5.7//NONSGML v1.0//EN
CALSCALE:GREGORIAN
METHOD:PUBLISH
X-WR-CALNAME:SSAC Hockey
X-ORIGINAL-URL:https://ssac.hockey
X-WR-CALDESC:Events for SSAC Hockey
BEGIN:VEVENT
DTSTART;TZID=America/Edmonton:20250921T200000
DTEND;TZID=America/Edmonton:20250921T221500
DTSTAMP:20260423T045548
CREATED:20250916T193216Z
LAST-MODIFIED:20250922T010700Z
UID:<span 
                data-original-string="7ba//Q0rsWeYDpsUP+xIug==052ADDQmdM/96Mo2gVdmnPFj5neGubN6QpJhs41krNTyk+dXChXNfRSIGwSQt2IVXpA"
                class="apbct-email-encoder"
                title="This contact has been encoded by Anti-Spam by CleanTalk. Click to decode. To finish the decoding make sure that JavaScript is enabled in your browser.">40<span class="apbct-blur">*************************@ss**.hock</span>ey</span>
SUMMARY:U16 AA Exhibition 20:00 TCC
DESCRIPTION:U16 AA Cameron Homes vs SPKAC TAHK Projects Senators @ Terwillegar C \n
URL:https://ssac.hockey/event/u16-aa-exhibition-2000-tcc-2/
LOCATION:2051 Leger Rd NW\, Edmonton\, AB\, T6R 0R8\, Canada
CATEGORIES:U16 AA,U16 AA Cameron Homes
END:VEVENT
END:VCALENDAR