BEGIN:VCALENDAR
VERSION:2.0
PRODID:-//SSAC Hockey - ECPv4.5.7//NONSGML v1.0//EN
CALSCALE:GREGORIAN
METHOD:PUBLISH
X-WR-CALNAME:SSAC Hockey
X-ORIGINAL-URL:https://ssac.hockey
X-WR-CALDESC:Events for SSAC Hockey
BEGIN:VEVENT
DTSTART;TZID=America/Edmonton:20250918T200000
DTEND;TZID=America/Edmonton:20250918T210000
DTSTAMP:20260423T045642
CREATED:20250916T193214Z
LAST-MODIFIED:20250916T193214Z
UID:<span 
                data-original-string="jpbdCe6J5T28hXjsEZ4gjg==0525PIMxoHNL1gpnQbnf0J8nKAPOn1X9+E0K2WZ2ymbkP5+NaN9+lQYtCvi2t9VkrV3"
                class="apbct-email-encoder"
                title="This contact has been encoded by Anti-Spam by CleanTalk. Click to decode. To finish the decoding make sure that JavaScript is enabled in your browser.">40<span class="apbct-blur">*************************@ss**.hock</span>ey</span>
SUMMARY:U16 AA Practice 20:00 TCB
DESCRIPTION:U16 AA Cameron Homes @ Terwillegar B \n
URL:https://ssac.hockey/event/u16-aa-practice-2000-tcb-2/
LOCATION:2051 Leger Rd NW\, Edmonton\, AB\, T6R 0R8\, Canada
CATEGORIES:U16 AA,U16 AA Cameron Homes
END:VEVENT
END:VCALENDAR