BEGIN:VCALENDAR
VERSION:2.0
PRODID:-//SSAC Hockey - ECPv4.5.7//NONSGML v1.0//EN
CALSCALE:GREGORIAN
METHOD:PUBLISH
X-WR-CALNAME:SSAC Hockey
X-ORIGINAL-URL:https://ssac.hockey
X-WR-CALDESC:Events for SSAC Hockey
BEGIN:VEVENT
DTSTART;TZID=America/Edmonton:20250917T210000
DTEND;TZID=America/Edmonton:20250917T220000
DTSTAMP:20260423T045406
CREATED:20250916T193213Z
LAST-MODIFIED:20250916T193213Z
UID:<span 
                data-original-string="Ah1KwO396pHoor5NhVdz1Q==052W9OwSFbciPHQJ42A0Evpd4p0pyXHgpYV0vRxw958M0GIxS7fJz3mRTmtSwrxrhs3"
                class="apbct-email-encoder"
                title="This contact has been encoded by Anti-Spam by CleanTalk. Click to decode. To finish the decoding make sure that JavaScript is enabled in your browser.">40<span class="apbct-blur">*************************@ss**.hock</span>ey</span>
SUMMARY:U16 AA Practice 21:00 TCB
DESCRIPTION:U16 AA Cameron Homes @ Terwillegar B \n
URL:https://ssac.hockey/event/u16-aa-practice-2100-tcb/
LOCATION:2051 Leger Rd NW\, Edmonton\, AB\, T6R 0R8\, Canada
CATEGORIES:U16 AA,U16 AA Cameron Homes
END:VEVENT
END:VCALENDAR