BEGIN:VCALENDAR
VERSION:2.0
PRODID:-//SSAC Hockey - ECPv4.5.7//NONSGML v1.0//EN
CALSCALE:GREGORIAN
METHOD:PUBLISH
X-WR-CALNAME:SSAC Hockey
X-ORIGINAL-URL:https://ssac.hockey
X-WR-CALDESC:Events for SSAC Hockey
BEGIN:VEVENT
DTSTART;TZID=America/Edmonton:20250911T194500
DTEND;TZID=America/Edmonton:20250911T204500
DTSTAMP:20260423T045724
CREATED:20250909T224538Z
LAST-MODIFIED:20250909T224538Z
UID:<span 
                data-original-string="o0xUe+KLJ32H3duJivramg==052DU/gIJDOvuL8w0cfebLojZX0oxUqxisikL2yCqct1XUj0ENOI6yGebQSRagpESCt"
                class="apbct-email-encoder"
                title="This contact has been encoded by Anti-Spam by CleanTalk. Click to decode. To finish the decoding make sure that JavaScript is enabled in your browser.">40<span class="apbct-blur">*************************@ss**.hock</span>ey</span>
SUMMARY:U16 AA Practice 19:45 KMB
DESCRIPTION:U16 AA Cameron Homes @ Kinsmen B \n
URL:https://ssac.hockey/event/u16-aa-practice-1945-kmb-4/
LOCATION:1979 111 St NW\, Edmonton\, AB\, T6J 7C6\, Canada
CATEGORIES:U16 AA,U16 AA Cameron Homes
END:VEVENT
END:VCALENDAR