BEGIN:VCALENDAR
VERSION:2.0
PRODID:-//SSAC Hockey - ECPv4.5.7//NONSGML v1.0//EN
CALSCALE:GREGORIAN
METHOD:PUBLISH
X-WR-CALNAME:SSAC Hockey
X-ORIGINAL-URL:https://ssac.hockey
X-WR-CALDESC:Events for SSAC Hockey
BEGIN:VEVENT
DTSTART;TZID=America/Edmonton:20250910T211500
DTEND;TZID=America/Edmonton:20250910T221500
DTSTAMP:20260423T045602
CREATED:20250909T224523Z
LAST-MODIFIED:20250909T224523Z
UID:<span 
                data-original-string="6KSyAEsub6UouLU+pHe6mA==052CtwY0WiZKZI+pMkyOGA2FsQuxlyv1NYUOT9rVYz58wcrS6cFvZlRT17cFqLdc8m9"
                class="apbct-email-encoder"
                title="This contact has been encoded by Anti-Spam by CleanTalk. Click to decode. To finish the decoding make sure that JavaScript is enabled in your browser.">40<span class="apbct-blur">*************************@ss**.hock</span>ey</span>
SUMMARY:U16 AA Practice 21:15 KMB
DESCRIPTION:U16 AA Cameron Homes @ Kinsmen B \n
URL:https://ssac.hockey/event/u16-aa-practice-2115-kmb-3/
LOCATION:1979 111 St NW\, Edmonton\, AB\, T6J 7C6\, Canada
CATEGORIES:U16 AA,U16 AA Cameron Homes
END:VEVENT
END:VCALENDAR