BEGIN:VCALENDAR
VERSION:2.0
PRODID:-//SSAC Hockey - ECPv4.5.7//NONSGML v1.0//EN
CALSCALE:GREGORIAN
METHOD:PUBLISH
X-WR-CALNAME:SSAC Hockey
X-ORIGINAL-URL:https://ssac.hockey
X-WR-CALDESC:Events for SSAC Hockey
BEGIN:VEVENT
DTSTART;TZID=America/Edmonton:20250907T191500
DTEND;TZID=America/Edmonton:20250907T203000
DTSTAMP:20260423T045431
CREATED:20250906T205130Z
LAST-MODIFIED:20250907T232554Z
UID:<span 
                data-original-string="Jkahtao2MoYreVHLzrv90Q==052T7rP7t4+dkiQhzUq2ArA2v4ek7Nq99GEqOggBCqOu2RGe9H1gmQCUlEtDcGgQ3k8"
                class="apbct-email-encoder"
                title="This contact has been encoded by Anti-Spam by CleanTalk. Click to decode. To finish the decoding make sure that JavaScript is enabled in your browser.">40<span class="apbct-blur">*************************@ss**.hock</span>ey</span>
SUMMARY:U16 AA Practice 19:15 KMB
DESCRIPTION:U16 AA Cameron Homes @ Kinsmen B \n
URL:https://ssac.hockey/event/u16-aa-ch-practice-1915-kmb/
LOCATION:1979 111 St NW\, Edmonton\, AB\, T6J 7C6\, Canada
CATEGORIES:U16 AA,U16 AA Cameron Homes
END:VEVENT
END:VCALENDAR