BEGIN:VCALENDAR
VERSION:2.0
PRODID:-//SSAC Hockey - ECPv4.5.7//NONSGML v1.0//EN
CALSCALE:GREGORIAN
METHOD:PUBLISH
X-WR-CALNAME:SSAC Hockey
X-ORIGINAL-URL:https://ssac.hockey
X-WR-CALDESC:Events for SSAC Hockey
BEGIN:VEVENT
DTSTART;TZID=America/Edmonton:20250311T200000
DTEND;TZID=America/Edmonton:20250311T221500
DTSTAMP:20260423T151845
CREATED:20250311T171741Z
LAST-MODIFIED:20250311T171741Z
UID:<span 
                data-original-string="C+PIm/A0MMbZWn3WbF6QkA==052+2Cco+/dfJND0EUeequQ+Y+QYGkPEiXRfkslDZIZFMyO2u41D9e0yK6JwTLWav8b"
                class="apbct-email-encoder"
                title="This contact has been encoded by Anti-Spam by CleanTalk. Click to decode. To finish the decoding make sure that JavaScript is enabled in your browser.">39<span class="apbct-blur">*************************@ss**.hock</span>ey</span>
SUMMARY:U16 AA Game Division Final 20:00 CWA
DESCRIPTION:U16 AA Cameron Homes Mustangs vs PAC Energy Crane Saints @ Callingwood A \n
URL:https://ssac.hockey/event/u16-aa-game-division-final-2000-cwa/
LOCATION:17740 - 69 Avenue NW\, Edmonton\, AB\, T5T 6X3\, Canada
CATEGORIES:U16 AA,U16 AA Cameron Homes
END:VEVENT
END:VCALENDAR