BEGIN:VCALENDAR
VERSION:2.0
PRODID:-//SSAC Hockey - ECPv4.5.7//NONSGML v1.0//EN
CALSCALE:GREGORIAN
METHOD:PUBLISH
X-WR-CALNAME:SSAC Hockey
X-ORIGINAL-URL:https://ssac.hockey
X-WR-CALDESC:Events for SSAC Hockey
BEGIN:VEVENT
DTSTART;TZID=America/Edmonton:20250304T194500
DTEND;TZID=America/Edmonton:20250304T220000
DTSTAMP:20260423T151703
CREATED:20250305T010157Z
LAST-MODIFIED:20250305T010157Z
UID:<span 
                data-original-string="p9anHDKWjxNbIxBDAJfTeg==052J0SSjN6TYgA57PTO5DWe5vTQZVMP6Qea/L9tBwqAIMlgP3rt0faxnFJhhSkZBCZ1"
                class="apbct-email-encoder"
                title="This contact has been encoded by Anti-Spam by CleanTalk. Click to decode. To finish the decoding make sure that JavaScript is enabled in your browser.">39<span class="apbct-blur">*************************@ss**.hock</span>ey</span>
SUMMARY:U16 AA Game 1 Division Round 19:45 CDB
DESCRIPTION:U16 AA Cameron Homes Mustangs at PAC Energy Crane Saints @ Castle Downs B \n
URL:https://ssac.hockey/event/u16-aa-game-1-division-round-1945-cdb/
CATEGORIES:U16 AA,U16 AA Cameron Homes
END:VEVENT
END:VCALENDAR