BEGIN:VCALENDAR
VERSION:2.0
PRODID:-//SSAC Hockey - ECPv4.5.7//NONSGML v1.0//EN
CALSCALE:GREGORIAN
METHOD:PUBLISH
X-WR-CALNAME:SSAC Hockey
X-ORIGINAL-URL:https://ssac.hockey
X-WR-CALDESC:Events for SSAC Hockey
BEGIN:VEVENT
DTSTART;TZID=America/Edmonton:20250219T200000
DTEND;TZID=America/Edmonton:20250219T221500
DTSTAMP:20260423T165758
CREATED:20250129T224000Z
LAST-MODIFIED:20250129T224000Z
UID:<span 
                data-original-string="d297sf2dpi5Wk3WTiAmwfA==052wtYozVkFXMkDCgdCna7EdfCAthetXQR76mPAtm9HZd/5GigtkV2mOpB8M8bLTzBA"
                class="apbct-email-encoder"
                title="This contact has been encoded by Anti-Spam by CleanTalk. Click to decode. To finish the decoding make sure that JavaScript is enabled in your browser.">39<span class="apbct-blur">*************************@ss**.hock</span>ey</span>
SUMMARY:U16 AA Game 20:00 MWA
DESCRIPTION:U16 AA Cameron Homes Mustangs at MLAC Lenbeth Weeping Tile @ Kyle Fundytus Mill Woods A \n
URL:https://ssac.hockey/event/u16-aa-game-2000-mwa-2/
LOCATION:7207 28 Ave NW\, Edmonton\, AB\, T6K 3Z3\, Canada
CATEGORIES:U16 AA,U16 AA Cameron Homes
END:VEVENT
END:VCALENDAR