BEGIN:VCALENDAR
VERSION:2.0
PRODID:-//SSAC Hockey - ECPv4.5.7//NONSGML v1.0//EN
CALSCALE:GREGORIAN
METHOD:PUBLISH
X-WR-CALNAME:SSAC Hockey
X-ORIGINAL-URL:https://ssac.hockey
X-WR-CALDESC:Events for SSAC Hockey
BEGIN:VEVENT
DTSTART;TZID=America/Edmonton:20250202T154500
DTEND;TZID=America/Edmonton:20250202T180000
DTSTAMP:20260423T171254
CREATED:20250129T223959Z
LAST-MODIFIED:20250129T223959Z
UID:<span 
                data-original-string="Bx6CO/GczvtnP2r+iHA1ag==052EVct52zWM8H9+YqTkWJsN9h8rWdoZQxB9+rk3alVrdv644OwldSR65ZPSU/UPEod"
                class="apbct-email-encoder"
                title="This contact has been encoded by Anti-Spam by CleanTalk. Click to decode. To finish the decoding make sure that JavaScript is enabled in your browser.">39<span class="apbct-blur">*************************@ss**.hock</span>ey</span>
SUMMARY:U16 AA Game 15:45 CFA
DESCRIPTION:U16 AA Cameron Homes Mustangs vs SPKAC TAHK Projects Senators @ Confederation \n
URL:https://ssac.hockey/event/u16-aa-game-1545-cfa-2/
LOCATION:11204 43 Ave NW\, Edmonton\, AB\, T6J 2R3\, Canada
CATEGORIES:U16 AA,U16 AA Cameron Homes
END:VEVENT
END:VCALENDAR