BEGIN:VCALENDAR
VERSION:2.0
PRODID:-//SSAC Hockey - ECPv4.5.7//NONSGML v1.0//EN
CALSCALE:GREGORIAN
METHOD:PUBLISH
X-WR-CALNAME:SSAC Hockey
X-ORIGINAL-URL:https://ssac.hockey
X-WR-CALDESC:Events for SSAC Hockey
BEGIN:VEVENT
DTSTART;TZID=America/Edmonton:20250109T194500
DTEND;TZID=America/Edmonton:20250109T204500
DTSTAMP:20260423T184530
CREATED:20241231T200141Z
LAST-MODIFIED:20241231T200141Z
UID:<span 
                data-original-string="t7u10iyyBx7kTHUi+qUcGg==052RBy8LE61OK6gxAgirRLy6YmPwfC8zpd3k/FEWZpZSEfXfI8Kj6hRng5dLpmhYmwm"
                class="apbct-email-encoder"
                title="This contact has been encoded by Anti-Spam by CleanTalk. Click to decode. To finish the decoding make sure that JavaScript is enabled in your browser.">39<span class="apbct-blur">*************************@ss**.hock</span>ey</span>
SUMMARY:U16 AA Practice 19:45 KMB
DESCRIPTION:U16 AA Cameron Homes Mustangs @ Kinsmen B \n
URL:https://ssac.hockey/event/u16-aa-practice-1945-kmb-3/
LOCATION:1979 111 St NW\, Edmonton\, AB\, T6J 7C6\, Canada
CATEGORIES:U16 AA,U16 AA Cameron Homes
END:VEVENT
END:VCALENDAR