BEGIN:VCALENDAR
VERSION:2.0
PRODID:-//SSAC Hockey - ECPv4.5.7//NONSGML v1.0//EN
CALSCALE:GREGORIAN
METHOD:PUBLISH
X-WR-CALNAME:SSAC Hockey
X-ORIGINAL-URL:https://ssac.hockey
X-WR-CALDESC:Events for SSAC Hockey
BEGIN:VEVENT
DTSTART;TZID=America/Edmonton:20250917T194500
DTEND;TZID=America/Edmonton:20250917T204500
DTSTAMP:20260423T084633
CREATED:20250916T014116Z
LAST-MODIFIED:20250916T014116Z
UID:<span 
                data-original-string="mLJ/0ysb9nWCBuv+Eyzrng==052y+O+1oCBk4IrQUzObdBLBFfufcb/a/42UT+9KuXjmeqKYBbNyBkc30+/bQ/uehtA"
                class="apbct-email-encoder"
                title="This contact has been encoded by Anti-Spam by CleanTalk. Click to decode. To finish the decoding make sure that JavaScript is enabled in your browser.">40<span class="apbct-blur">*************************@ss**.hock</span>ey</span>
SUMMARY:U15 AA IP Practice 19:45 KMA
DESCRIPTION:U15 AA Innovation Physio @ Kinsmen A \n
URL:https://ssac.hockey/event/u15-aa-ip-practice-1945-kma-2/
LOCATION:1979 111 St NW\, Edmonton\, AB\, T6J 7C6\, Canada
CATEGORIES:U15 AA,U15 AA Innovation Physio
END:VEVENT
END:VCALENDAR