BEGIN:VCALENDAR
VERSION:2.0
PRODID:-//SSAC Hockey - ECPv4.5.7//NONSGML v1.0//EN
CALSCALE:GREGORIAN
METHOD:PUBLISH
X-WR-CALNAME:SSAC Hockey
X-ORIGINAL-URL:https://ssac.hockey
X-WR-CALDESC:Events for SSAC Hockey
BEGIN:VEVENT
DTSTART;TZID=America/Edmonton:20250907T154500
DTEND;TZID=America/Edmonton:20250907T164500
DTSTAMP:20260423T085628
CREATED:20250905T202655Z
LAST-MODIFIED:20250905T202926Z
UID:<span 
                data-original-string="qyU/KaI4Tq8/jiXI8IQ/Sw==0529wpeRdciEW7tIzYst2E+HJjM8N9yrh9PKKGloCMY8Q0H2z8LF3Jdu2crz2RSjKsw"
                class="apbct-email-encoder"
                title="This contact has been encoded by Anti-Spam by CleanTalk. Click to decode. To finish the decoding make sure that JavaScript is enabled in your browser.">40<span class="apbct-blur">*************************@ss**.hock</span>ey</span>
SUMMARY:U15 AA IP Practice 15:45 CFA
DESCRIPTION:U15 AA Innovation Physio @ Confederation \n
URL:https://ssac.hockey/event/u15-aa-ip-practice-1745-cfa/
LOCATION:11204 43 Ave NW\, Edmonton\, AB\, T6J 2R3\, Canada
CATEGORIES:U15 AA,U15 AA Innovation Physio
END:VEVENT
END:VCALENDAR