BEGIN:VCALENDAR
VERSION:2.0
PRODID:-//SSAC Hockey - ECPv4.5.7//NONSGML v1.0//EN
CALSCALE:GREGORIAN
METHOD:PUBLISH
X-WR-CALNAME:SSAC Hockey
X-ORIGINAL-URL:https://ssac.hockey
X-WR-CALDESC:Events for SSAC Hockey
BEGIN:VEVENT
DTSTART;VALUE=DATE:20220218
DTEND;VALUE=DATE:20220221
DTSTAMP:20260426T014528
CREATED:20220205T042233Z
LAST-MODIFIED:20220205T042233Z
UID:<span 
                data-original-string="lZx0JAGr2iDyPBuUnJM7tA==052NOgBcaeOPSAiQbz81Dde8WsuWnB+ug1qlGP3wngfUDsynCi1qPaR5dkin9ywlN6M"
                class="apbct-email-encoder"
                title="This contact has been encoded by Anti-Spam by CleanTalk. Click to decode. To finish the decoding make sure that JavaScript is enabled in your browser.">26<span class="apbct-blur">*************************@ss**.hock</span>ey</span>
SUMMARY:U13 AA AW Stollery Tournament
DESCRIPTION:U13 AA ATB Wealth @ Stollery Family Day Classic Tournament | Terwillegar \n
URL:https://ssac.hockey/event/u13-aa-aw-stollery-tournament/
LOCATION:2051 Leger Rd NW\, Edmonton\, AB\, T6R 0R8\, Canada
CATEGORIES:U13 AA,U13 AA ATB Wealth
END:VEVENT
BEGIN:VEVENT
DTSTART;VALUE=DATE:20220218
DTEND;VALUE=DATE:20220221
DTSTAMP:20260426T014528
CREATED:20220205T042840Z
LAST-MODIFIED:20220205T042840Z
UID:<span 
                data-original-string="lqc2pEeuyevFx1V5jJc/Rg==052jHLvDlzA1rt2CYJ57IPGHNWSon4hegtHmG+3wFAQk9QdvyDdu8JoV9H5Qzh4iS1a"
                class="apbct-email-encoder"
                title="This contact has been encoded by Anti-Spam by CleanTalk. Click to decode. To finish the decoding make sure that JavaScript is enabled in your browser.">26<span class="apbct-blur">*************************@ss**.hock</span>ey</span>
SUMMARY:U13 AA TC Stollery Tournament
DESCRIPTION:U13 AA Traxx Coachlines @ Stollery Family Day Classic Tournament | Terwillegar \n
URL:https://ssac.hockey/event/u13-aa-tc-stollery-tournament/
LOCATION:2051 Leger Rd NW\, Edmonton\, AB\, T6R 0R8\, Canada
CATEGORIES:U13 AA,U13 AA Traxx Coachlines
END:VEVENT
BEGIN:VEVENT
DTSTART;TZID=America/Edmonton:20220219T164500
DTEND;TZID=America/Edmonton:20220219T181500
DTSTAMP:20260426T014528
CREATED:20220205T042431Z
LAST-MODIFIED:20220205T042431Z
UID:<span 
                data-original-string="1PyNpzlYVv+KDhT3NEge+g==052C8Cyp5HY32Yeu/C0SLzZvTUmnpjEs4sQG7G+z1RWtu9lWeFUnuwZTtSsKKHt8Q5F"
                class="apbct-email-encoder"
                title="This contact has been encoded by Anti-Spam by CleanTalk. Click to decode. To finish the decoding make sure that JavaScript is enabled in your browser.">26<span class="apbct-blur">*************************@ss**.hock</span>ey</span>
SUMMARY:U13 AA IP Game 16:45 CTM
DESCRIPTION:U13 AA Innovation Physio at St Albert Knights @ Troy Murray \n
URL:https://ssac.hockey/event/u13-aa-ip-game-1645-ctm/
LOCATION:400 Campbell Rd\, St Albert\, AB\, T8N 0R8\, Canada
CATEGORIES:U13 AA,U13 AA Innovation Physio
END:VEVENT
END:VCALENDAR