BEGIN:VCALENDAR
VERSION:2.0
PRODID:-//SSAC Hockey - ECPv4.5.7//NONSGML v1.0//EN
CALSCALE:GREGORIAN
METHOD:PUBLISH
X-WR-CALNAME:SSAC Hockey
X-ORIGINAL-URL:https://ssac.hockey
X-WR-CALDESC:Events for SSAC Hockey
BEGIN:VEVENT
DTSTART;TZID=America/Edmonton:20220217T170000
DTEND;TZID=America/Edmonton:20220217T180000
DTSTAMP:20260425T222302
CREATED:20220205T042045Z
LAST-MODIFIED:20220205T042045Z
UID:<span 
                data-original-string="7k3ZIqtOpYq9dfTv5PqLUQ==0521RaBGIEU2FvmBYXwyhl2owBWk0lq5SNTUbrcrmHbrMpum4Wu73rtyrRtEn+V/m5X"
                class="apbct-email-encoder"
                title="This contact has been encoded by Anti-Spam by CleanTalk. Click to decode. To finish the decoding make sure that JavaScript is enabled in your browser.">26<span class="apbct-blur">*************************@ss**.hock</span>ey</span>
SUMMARY:U13 AA AW Practice 17:00 KMA
DESCRIPTION:U13 AA ATB Wealth @ Kinsmen A \n
URL:https://ssac.hockey/event/u13-aa-aw-practice-1700-kma-3/
LOCATION:1979 111 St NW\, Edmonton\, AB\, T6J 7C6\, Canada
CATEGORIES:U13 AA,U13 AA ATB Wealth
END:VEVENT
BEGIN:VEVENT
DTSTART;TZID=America/Edmonton:20220217T173000
DTEND;TZID=America/Edmonton:20220217T183000
DTSTAMP:20260425T222302
CREATED:20220205T042354Z
LAST-MODIFIED:20220205T042354Z
UID:<span 
                data-original-string="zrrjZOSimuzkwkxncwvRMg==052Vtz6bWfU5u1+r+dr2j6C+D8QZKpPIkRIvLqPO0NJ3fTzt9hhXgdEZ82AITiCqtvh"
                class="apbct-email-encoder"
                title="This contact has been encoded by Anti-Spam by CleanTalk. Click to decode. To finish the decoding make sure that JavaScript is enabled in your browser.">26<span class="apbct-blur">*************************@ss**.hock</span>ey</span>
SUMMARY:U13 AA IP Practice 17:30 CFA
DESCRIPTION:U13 AA Innovation Physio @ Confederation \n
URL:https://ssac.hockey/event/u13-aa-ip-practice-1730-cfa-6/
LOCATION:11204 43 Ave NW\, Edmonton\, AB\, T6J 2R3\, Canada
CATEGORIES:U13 AA,U13 AA Innovation Physio
END:VEVENT
BEGIN:VEVENT
DTSTART;TZID=America/Edmonton:20220217T190000
DTEND;TZID=America/Edmonton:20220217T203000
DTSTAMP:20260425T222302
CREATED:20220205T042808Z
LAST-MODIFIED:20220205T042808Z
UID:<span 
                data-original-string="bgcifcYzZC+z7ZqpfhgH+A==052pEmEEz4jFyo1QFAdgHDeXQIj+dcmxz3zBksUoi0Ce7zBn9/7rri5fNqtWJdDJd90"
                class="apbct-email-encoder"
                title="This contact has been encoded by Anti-Spam by CleanTalk. Click to decode. To finish the decoding make sure that JavaScript is enabled in your browser.">26<span class="apbct-blur">*************************@ss**.hock</span>ey</span>
SUMMARY:U13 AA TC Game 19:00 GTA
DESCRIPTION:U13 AA Traxx Coachlines at CAC Mercedes Benz Edmonton West @ Grand Trunk \n
URL:https://ssac.hockey/event/u13-aa-tc-game-1900-gta-2/
LOCATION:13025 - 112 St\, Edmonton\, AB\, T5E 6E4\, Canada
CATEGORIES:U13 AA,U13 AA Traxx Coachlines
END:VEVENT
END:VCALENDAR