BEGIN:VCALENDAR
VERSION:2.0
PRODID:-//SSAC Hockey - ECPv4.5.7//NONSGML v1.0//EN
CALSCALE:GREGORIAN
METHOD:PUBLISH
X-WR-CALNAME:SSAC Hockey
X-ORIGINAL-URL:https://ssac.hockey
X-WR-CALDESC:Events for SSAC Hockey
BEGIN:VEVENT
DTSTART;TZID=America/Edmonton:20220214T183000
DTEND;TZID=America/Edmonton:20220214T200000
DTSTAMP:20260425T172008
CREATED:20220205T042135Z
LAST-MODIFIED:20220205T042135Z
UID:<span 
                data-original-string="3WhQcWNYVkV4qjdIaxysLQ==0523Zm4TwH1O22olXc/YjVngngbrgYZNZVZRe/jULdeim219CSyGY6LtT69zDnbgnFD"
                class="apbct-email-encoder"
                title="This contact has been encoded by Anti-Spam by CleanTalk. Click to decode. To finish the decoding make sure that JavaScript is enabled in your browser.">26<span class="apbct-blur">*************************@ss**.hock</span>ey</span>
SUMMARY:U13 AA AW Game 18:30 MWA
DESCRIPTION:U13 AA ATB Wealth vs CAC Cutting Edge @ Kyle Fundytus Mill Woods A \n
URL:https://ssac.hockey/event/u13-aa-aw-game-1830-mwa-8/
LOCATION:7207 28 Ave NW\, Edmonton\, AB\, T6K 3Z3\, Canada
CATEGORIES:U13 AA,U13 AA ATB Wealth
END:VEVENT
BEGIN:VEVENT
DTSTART;TZID=America/Edmonton:20220214T193000
DTEND;TZID=America/Edmonton:20220214T203000
DTSTAMP:20260425T172008
CREATED:20220205T042323Z
LAST-MODIFIED:20220216T005320Z
UID:<span 
                data-original-string="+1AVhcx4GS8K+l5pZi+ITw==052wUhCkb76/L/tGtLSu2+0KTlg/hZ9XgyXLWnZ+EeW2Hk+zCsNhlj/gaqeiDl3pzBv"
                class="apbct-email-encoder"
                title="This contact has been encoded by Anti-Spam by CleanTalk. Click to decode. To finish the decoding make sure that JavaScript is enabled in your browser.">26<span class="apbct-blur">*************************@ss**.hock</span>ey</span>
SUMMARY:U13 AA IP Skills 19:30 TIA —CANCELLED—
DESCRIPTION:U13 AA Innovation Physio | Quantum Speed @ Tipton \n
URL:https://ssac.hockey/event/u13-aa-ip-skills-1930-tia-5/
LOCATION:10828 80 Ave NW\, Edmonton\, AB\, T6E 5B5\, Canada
CATEGORIES:U13 AA,U13 AA Innovation Physio
END:VEVENT
BEGIN:VEVENT
DTSTART;TZID=America/Edmonton:20220214T200000
DTEND;TZID=America/Edmonton:20220214T210000
DTSTAMP:20260425T172008
CREATED:20220205T042659Z
LAST-MODIFIED:20220205T042659Z
UID:<span 
                data-original-string="TKjiKY1hb2mUgZ7ADCR0/w==0528W9l5ZO0vui9G0MLFB3f0JHoDxi0k3WEz42oqWnIgBlS/yyLGyRnpQ6Xg/SWKzQ/"
                class="apbct-email-encoder"
                title="This contact has been encoded by Anti-Spam by CleanTalk. Click to decode. To finish the decoding make sure that JavaScript is enabled in your browser.">26<span class="apbct-blur">*************************@ss**.hock</span>ey</span>
SUMMARY:U13 AA TC Practice 20:00 CFA
DESCRIPTION:U13 AA Traxx Coachlines @ Confederation \n
URL:https://ssac.hockey/event/u13-aa-tc-practice-2000-cfa/
LOCATION:11204 43 Ave NW\, Edmonton\, AB\, T6J 2R3\, Canada
CATEGORIES:U13 AA,U13 AA Traxx Coachlines
END:VEVENT
END:VCALENDAR