BEGIN:VCALENDAR
VERSION:2.0
PRODID:-//SSAC Hockey - ECPv4.5.7//NONSGML v1.0//EN
CALSCALE:GREGORIAN
METHOD:PUBLISH
X-WR-CALNAME:SSAC Hockey
X-ORIGINAL-URL:https://ssac.hockey
X-WR-CALDESC:Events for SSAC Hockey
BEGIN:VEVENT
DTSTART;TZID=America/Edmonton:20220210T173000
DTEND;TZID=America/Edmonton:20220210T183000
DTSTAMP:20260425T101948
CREATED:20220205T042354Z
LAST-MODIFIED:20220205T042354Z
UID:<span 
                data-original-string="QhFjVrCCU82C2B82WryWug==0526CHlujCR/3a5Fes5IFIbdAC8C4Qli5tTz6LHhb+lDWX6W1RJFwRft7ikRQFE6CV2"
                class="apbct-email-encoder"
                title="This contact has been encoded by Anti-Spam by CleanTalk. Click to decode. To finish the decoding make sure that JavaScript is enabled in your browser.">26<span class="apbct-blur">*************************@ss**.hock</span>ey</span>
SUMMARY:U13 AA IP Practice 17:30 CFA
DESCRIPTION:U13 AA Innovation Physio @ Confederation \n
URL:https://ssac.hockey/event/u13-aa-ip-practice-1730-cfa-5/
LOCATION:11204 43 Ave NW\, Edmonton\, AB\, T6J 2R3\, Canada
CATEGORIES:U13 AA,U13 AA Innovation Physio
END:VEVENT
BEGIN:VEVENT
DTSTART;TZID=America/Edmonton:20220210T183000
DTEND;TZID=America/Edmonton:20220210T200000
DTSTAMP:20260425T101948
CREATED:20220205T042808Z
LAST-MODIFIED:20220205T042808Z
UID:<span 
                data-original-string="uWvWNyWEfhKoth9rhdpZiw==052YL/1TMTxHJckRMe9OeJ7XzK/xh3Lfk98mgnoCyKCI++FPhVYoylZwLYuMsuElHeA"
                class="apbct-email-encoder"
                title="This contact has been encoded by Anti-Spam by CleanTalk. Click to decode. To finish the decoding make sure that JavaScript is enabled in your browser.">26<span class="apbct-blur">*************************@ss**.hock</span>ey</span>
SUMMARY:U13 AA TC Game 18:30 GAA
DESCRIPTION:U13 AA Traxx Coachlines at St Albert Titans @ Go Auto \n
URL:https://ssac.hockey/event/u13-aa-tc-game-1830-gaa/
LOCATION:400 Campbell Road\, St. Albert\, AB\, T8N 0R8\, Canada
CATEGORIES:U13 AA,U13 AA Traxx Coachlines
END:VEVENT
END:VCALENDAR