BEGIN:VCALENDAR
VERSION:2.0
PRODID:-//SSAC Hockey - ECPv4.5.7//NONSGML v1.0//EN
CALSCALE:GREGORIAN
METHOD:PUBLISH
X-WR-CALNAME:SSAC Hockey
X-ORIGINAL-URL:https://ssac.hockey
X-WR-CALDESC:Events for SSAC Hockey
BEGIN:VEVENT
DTSTART;TZID=America/Edmonton:20220206T183000
DTEND;TZID=America/Edmonton:20220206T193000
DTSTAMP:20260425T033118
CREATED:20220205T042044Z
LAST-MODIFIED:20220205T042044Z
UID:<span 
                data-original-string="SlPXo1mRzfagKSFAhuW5Lw==052yMWtnQkndv4ElHlxKL/RL0ZV7rZplHAnRb7L3tsWJEyDE+TBeNTjYCC2ro5xiqVk"
                class="apbct-email-encoder"
                title="This contact has been encoded by Anti-Spam by CleanTalk. Click to decode. To finish the decoding make sure that JavaScript is enabled in your browser.">26<span class="apbct-blur">*************************@ss**.hock</span>ey</span>
SUMMARY:U13 AA AW Practice 18:30 CFA
DESCRIPTION:U13 AA ATB Wealth @ Confederation \n
URL:https://ssac.hockey/event/u13-aa-aw-practice-1830-cfa-9/
LOCATION:11204 43 Ave NW\, Edmonton\, AB\, T6J 2R3\, Canada
CATEGORIES:U13 AA,U13 AA ATB Wealth
END:VEVENT
BEGIN:VEVENT
DTSTART;TZID=America/Edmonton:20220206T194500
DTEND;TZID=America/Edmonton:20220206T204500
DTSTAMP:20260425T033118
CREATED:20220205T042658Z
LAST-MODIFIED:20220205T042658Z
UID:<span 
                data-original-string="oqNoeK/pm5R/MXWHIaQyhQ==052X+5vtDB1wx3iRM57/WJSgW3vD00NeIPYF9XCNVcg79HoWUD8gkK+0WOj+f78l9Zt"
                class="apbct-email-encoder"
                title="This contact has been encoded by Anti-Spam by CleanTalk. Click to decode. To finish the decoding make sure that JavaScript is enabled in your browser.">26<span class="apbct-blur">*************************@ss**.hock</span>ey</span>
SUMMARY:U13 AA TC Practice 19:45 TCB
DESCRIPTION:U13 AA Traxx Coachlines @ Terwillegar B \n
URL:https://ssac.hockey/event/u13-aa-tc-practice-1945-tcb-5/
LOCATION:2051 Leger Rd NW\, Edmonton\, AB\, T6R 0R8\, Canada
CATEGORIES:U13 AA,U13 AA Traxx Coachlines
END:VEVENT
END:VCALENDAR