BEGIN:VCALENDAR
VERSION:2.0
PRODID:-//SSAC Hockey - ECPv4.5.7//NONSGML v1.0//EN
CALSCALE:GREGORIAN
METHOD:PUBLISH
X-WR-CALNAME:SSAC Hockey
X-ORIGINAL-URL:https://ssac.hockey
X-WR-CALDESC:Events for SSAC Hockey
BEGIN:VEVENT
DTSTART;TZID=America/Edmonton:20220203T173000
DTEND;TZID=America/Edmonton:20220203T183000
DTSTAMP:20260424T223658
CREATED:20211231T225319Z
LAST-MODIFIED:20211231T225319Z
UID:<span 
                data-original-string="aGUIZSU8CVU8Hr9nU71BgQ==052IvSeRny5KhSa0RhVT6wI82eAIBAafFTdR9Parf959XWSLJDL3EfAopH3sa8V516W"
                class="apbct-email-encoder"
                title="This contact has been encoded by Anti-Spam by CleanTalk. Click to decode. To finish the decoding make sure that JavaScript is enabled in your browser.">25<span class="apbct-blur">*************************@ss**.hock</span>ey</span>
SUMMARY:U13 AA TC Practice 17:30 CFA
DESCRIPTION:U13 AA Traxx Coachlines @ Confederation \n
URL:https://ssac.hockey/event/u13-aa-tc-practice-1730-cfa-6/
LOCATION:11204 43 Ave NW\, Edmonton\, AB\, T6J 2R3\, Canada
CATEGORIES:U13 AA,U13 AA Traxx Coachlines
END:VEVENT
BEGIN:VEVENT
DTSTART;TZID=America/Edmonton:20220203T184500
DTEND;TZID=America/Edmonton:20220203T201500
DTSTAMP:20260424T223658
CREATED:20211231T224923Z
LAST-MODIFIED:20211231T224923Z
UID:<span 
                data-original-string="d7+olNLh2oaWtA6VVF3O2A==052jKJ9MI4b2Q+WNHj2SlBM6SpH7heVneFRIMfxS1YYMhi5lcUyCv3Ef0s6gr+N2I5H"
                class="apbct-email-encoder"
                title="This contact has been encoded by Anti-Spam by CleanTalk. Click to decode. To finish the decoding make sure that JavaScript is enabled in your browser.">25<span class="apbct-blur">*************************@ss**.hock</span>ey</span>
SUMMARY:U13 AA IP Game 18:45 MWB
DESCRIPTION:U13 AA Innovation Physio vs Spruce Grove Saints @ Mill Woods B \n
URL:https://ssac.hockey/event/u13-aa-ip-game-1845-mwb-6/
LOCATION:7207 28 Ave NW\, Edmonton\, AB\, T6K 3Z3\, Canada
CATEGORIES:U13 AA,U13 AA Innovation Physio
END:VEVENT
END:VCALENDAR