BEGIN:VCALENDAR
VERSION:2.0
PRODID:-//SSAC Hockey - ECPv4.5.7//NONSGML v1.0//EN
CALSCALE:GREGORIAN
METHOD:PUBLISH
X-WR-CALNAME:SSAC Hockey
X-ORIGINAL-URL:https://ssac.hockey
X-WR-CALDESC:Events for SSAC Hockey
BEGIN:VEVENT
DTSTART;TZID=America/Edmonton:20220201T183000
DTEND;TZID=America/Edmonton:20220201T200000
DTSTAMP:20260424T190755
CREATED:20211231T225416Z
LAST-MODIFIED:20211231T225416Z
UID:<span 
                data-original-string="iC8YGop4qdRNOrFidIDD+A==052ufVEcAcVl8rUH1rthbQLi9FDvTQZ82+P99bs9YPQ2mXk4hM15ToOt6L4nRMuqKB0"
                class="apbct-email-encoder"
                title="This contact has been encoded by Anti-Spam by CleanTalk. Click to decode. To finish the decoding make sure that JavaScript is enabled in your browser.">25<span class="apbct-blur">*************************@ss**.hock</span>ey</span>
SUMMARY:U13 AA TC Game 18:30 TCC
DESCRIPTION:U13 AA Traxx Coachlines vs CAC Sturnie-Hueston @ Terwillegar C \n
URL:https://ssac.hockey/event/u13-aa-tc-game-1830-tcc-5/
LOCATION:2051 Leger Rd NW\, Edmonton\, AB\, T6R 0R8\, Canada
CATEGORIES:U13 AA,U13 AA Traxx Coachlines
END:VEVENT
BEGIN:VEVENT
DTSTART;TZID=America/Edmonton:20220201T193000
DTEND;TZID=America/Edmonton:20220201T203000
DTSTAMP:20260424T190755
CREATED:20211231T224744Z
LAST-MODIFIED:20211231T224744Z
UID:<span 
                data-original-string="UeqVuKJNuOyrK2R7pPN7aA==052YI0IJpGqhvL6GItjAwN7dQX+nJilAzG/pLHaBaMAvTh9ibgHsmXwDm4FaPavIy+1"
                class="apbct-email-encoder"
                title="This contact has been encoded by Anti-Spam by CleanTalk. Click to decode. To finish the decoding make sure that JavaScript is enabled in your browser.">24<span class="apbct-blur">*************************@ss**.hock</span>ey</span>
SUMMARY:U13 AA IP Skills 19:30 WEM
DESCRIPTION:U13 AA Innovation Physio | Defensive Edge @ West Edmonton Mall Ice Palace \n
URL:https://ssac.hockey/event/u13-aa-ip-skills-1930-wem-13/
LOCATION:8882 170 St NW\, Edmonton\, AB\, T5T 4J2\, Canada
CATEGORIES:U13 AA,U13 AA Innovation Physio
END:VEVENT
END:VCALENDAR