BEGIN:VCALENDAR
VERSION:2.0
PRODID:-//SSAC Hockey - ECPv4.5.7//NONSGML v1.0//EN
CALSCALE:GREGORIAN
METHOD:PUBLISH
X-WR-CALNAME:SSAC Hockey
X-ORIGINAL-URL:https://ssac.hockey
X-WR-CALDESC:Events for SSAC Hockey
BEGIN:VEVENT
DTSTART;TZID=America/Edmonton:20220130T124500
DTEND;TZID=America/Edmonton:20220130T150000
DTSTAMP:20260424T155139
CREATED:20211231T224923Z
LAST-MODIFIED:20211231T224923Z
UID:<span 
                data-original-string="TTUM91Eg76eOWTdnq1/zaQ==052ETH2pv2d/4Fzz9cT6bSGdoMS//rC4zCexF5iaL8dUpcfyZA5rmpw9Zez538HF6DS"
                class="apbct-email-encoder"
                title="This contact has been encoded by Anti-Spam by CleanTalk. Click to decode. To finish the decoding make sure that JavaScript is enabled in your browser.">25<span class="apbct-blur">*************************@ss**.hock</span>ey</span>
SUMMARY:U13 AA IP Game 12:45 CHE
DESCRIPTION:U13 AA Innovation Physio at Leduc Roughnecks @ Chemco | Leduc Recreation Centre \n
URL:https://ssac.hockey/event/u13-aa-ip-game-1245-che/
LOCATION:4330 Black Gold Dr.\, Leduc\, AB\, T9E 3C3\, Canada
CATEGORIES:U13 AA,U13 AA Innovation Physio
END:VEVENT
BEGIN:VEVENT
DTSTART;TZID=America/Edmonton:20220130T183000
DTEND;TZID=America/Edmonton:20220130T193000
DTSTAMP:20260424T155139
CREATED:20211231T225248Z
LAST-MODIFIED:20211231T225248Z
UID:<span 
                data-original-string="VOPR3jg1njBR+89jV177IA==0529ICM8Lce/lmpQ2mSB2bwVrK0W9BOQdyXBJLj2ZnfipA3WPyvQhajqwyEVzXWzPcx"
                class="apbct-email-encoder"
                title="This contact has been encoded by Anti-Spam by CleanTalk. Click to decode. To finish the decoding make sure that JavaScript is enabled in your browser.">25<span class="apbct-blur">*************************@ss**.hock</span>ey</span>
SUMMARY:U13 AA TC Practice 18:30 CFA
DESCRIPTION:U13 AA Traxx Coachlines @ Confederation \n
URL:https://ssac.hockey/event/u13-aa-tc-practice-1830-cfa-5/
LOCATION:11204 43 Ave NW\, Edmonton\, AB\, T6J 2R3\, Canada
CATEGORIES:U13 AA,U13 AA Traxx Coachlines
END:VEVENT
BEGIN:VEVENT
DTSTART;TZID=America/Edmonton:20220130T194500
DTEND;TZID=America/Edmonton:20220130T204500
DTSTAMP:20260424T155139
CREATED:20211231T224233Z
LAST-MODIFIED:20211231T224233Z
UID:<span 
                data-original-string="CjbPj33UcIrEQAoxvFPzpQ==052OAM8pc70eSRXndpsxK1/rG94h7vzeHj+USqpqKQACUb6fSqakCSH2fngYPYxbNRC"
                class="apbct-email-encoder"
                title="This contact has been encoded by Anti-Spam by CleanTalk. Click to decode. To finish the decoding make sure that JavaScript is enabled in your browser.">24<span class="apbct-blur">*************************@ss**.hock</span>ey</span>
SUMMARY:U13 AA AW Practice 19:45 TCB
DESCRIPTION:U13 AA ATB Wealth @ Terwillegar B \n
URL:https://ssac.hockey/event/u13-aa-aw-practice-1945-tcb-5/
LOCATION:2051 Leger Rd NW\, Edmonton\, AB\, T6R 0R8\, Canada
CATEGORIES:U13 AA,U13 AA ATB Wealth
END:VEVENT
END:VCALENDAR