BEGIN:VCALENDAR
VERSION:2.0
PRODID:-//SSAC Hockey - ECPv4.5.7//NONSGML v1.0//EN
CALSCALE:GREGORIAN
METHOD:PUBLISH
X-WR-CALNAME:SSAC Hockey
X-ORIGINAL-URL:https://ssac.hockey
X-WR-CALDESC:Events for SSAC Hockey
BEGIN:VEVENT
DTSTART;TZID=America/Edmonton:20220124T170000
DTEND;TZID=America/Edmonton:20220124T180000
DTSTAMP:20260424T055617
CREATED:20211231T224713Z
LAST-MODIFIED:20211231T224713Z
UID:<span 
                data-original-string="qv5LkBeGkB8Xx9xSgQeYzw==052qpE8cKT8UYNecFk7ZUi+1DFZkKRUdCNxSRaM2xtbD5HCM5R0n6KJnvF3BVhLxGN0"
                class="apbct-email-encoder"
                title="This contact has been encoded by Anti-Spam by CleanTalk. Click to decode. To finish the decoding make sure that JavaScript is enabled in your browser.">24<span class="apbct-blur">*************************@ss**.hock</span>ey</span>
SUMMARY:U13 AA IP Skills 17:00 BHA
DESCRIPTION:U13 AA Innovation Physio | Quantum Speed @ Bill Hunter \n
URL:https://ssac.hockey/event/u13-aa-ip-skills-1700-bha-4/
LOCATION:9200 - 163 Street NW\, Edmonton\, AB\, T5R 2P3\, Canada
CATEGORIES:U13 AA,U13 AA Innovation Physio
END:VEVENT
BEGIN:VEVENT
DTSTART;TZID=America/Edmonton:20220124T181500
DTEND;TZID=America/Edmonton:20220124T194500
DTSTAMP:20260424T055617
CREATED:20211231T224407Z
LAST-MODIFIED:20211231T224407Z
UID:<span 
                data-original-string="0eT73113B2d2jvRYV6Ujmw==052Sp/26yn5tw9yPt/vubK8tAWpEuN8bQ8rAXuEOB+EQRxDmk86jwaSxqgBgFkhkVGZ"
                class="apbct-email-encoder"
                title="This contact has been encoded by Anti-Spam by CleanTalk. Click to decode. To finish the decoding make sure that JavaScript is enabled in your browser.">24<span class="apbct-blur">*************************@ss**.hock</span>ey</span>
SUMMARY:U13 AA AW Game 18:15 SSA
DESCRIPTION:U13 AA ATB Wealth vs CAC Sturnie-Hueston @ South Side \n
URL:https://ssac.hockey/event/u13-aa-aw-game-1815-ssa-5/
LOCATION:10525 72 Ave. NW\, Edmonton\, AB\, T6E 0Z7\, Canada
CATEGORIES:U13 AA,U13 AA ATB Wealth
END:VEVENT
BEGIN:VEVENT
DTSTART;TZID=America/Edmonton:20220124T193000
DTEND;TZID=America/Edmonton:20220124T203000
DTSTAMP:20260424T055617
CREATED:20211231T225319Z
LAST-MODIFIED:20211231T225319Z
UID:<span 
                data-original-string="R7tsdfcOYtBTeqCCZuZ5lA==052/yV+qflovh5fg2SNU01uYetalvx0uSMOidpYP3eQKmuO2KlOhd/HBkbDUEMYq4pr"
                class="apbct-email-encoder"
                title="This contact has been encoded by Anti-Spam by CleanTalk. Click to decode. To finish the decoding make sure that JavaScript is enabled in your browser.">25<span class="apbct-blur">*************************@ss**.hock</span>ey</span>
SUMMARY:U13 AA TC Skills 19:30 TIA
DESCRIPTION:U13 AA Traxx Coachlines | Quantum Speed @ Tipton \n
URL:https://ssac.hockey/event/u13-aa-tc-skills-1930-tia-5/
LOCATION:10828 80 Ave NW\, Edmonton\, AB\, T6E 5B5\, Canada
CATEGORIES:U13 AA,U13 AA Traxx Coachlines
END:VEVENT
END:VCALENDAR