BEGIN:VCALENDAR
VERSION:2.0
PRODID:-//SSAC Hockey - ECPv4.5.7//NONSGML v1.0//EN
CALSCALE:GREGORIAN
METHOD:PUBLISH
X-WR-CALNAME:SSAC Hockey
X-ORIGINAL-URL:https://ssac.hockey
X-WR-CALDESC:Events for SSAC Hockey
BEGIN:VEVENT
DTSTART;TZID=America/Edmonton:20220122T163000
DTEND;TZID=America/Edmonton:20220122T173000
DTSTAMP:20260424T022050
CREATED:20211231T224819Z
LAST-MODIFIED:20211231T224819Z
UID:<span 
                data-original-string="NHwPnjzv1LxTO020pumrNg==052Z3i9ETTnufJcLBxsh56TwV4be8A+DwxOFsWq04lY/jYfFLAzU0tv5JgUkCShFyfw"
                class="apbct-email-encoder"
                title="This contact has been encoded by Anti-Spam by CleanTalk. Click to decode. To finish the decoding make sure that JavaScript is enabled in your browser.">24<span class="apbct-blur">*************************@ss**.hock</span>ey</span>
SUMMARY:U13 AA IP Practice 16:30 SSA
DESCRIPTION:U13 AA Innovation Physio @ South Side \n
URL:https://ssac.hockey/event/u13-aa-ip-practice-1630-ssa-7/
LOCATION:10525 72 Ave. NW\, Edmonton\, AB\, T6E 0Z7\, Canada
CATEGORIES:U13 AA,U13 AA Innovation Physio
END:VEVENT
BEGIN:VEVENT
DTSTART;TZID=America/Edmonton:20220122T174500
DTEND;TZID=America/Edmonton:20220122T184500
DTSTAMP:20260424T022050
CREATED:20220118T211544Z
LAST-MODIFIED:20220118T211544Z
UID:<span 
                data-original-string="eYvlxTvpLCyw72nGjwmXdg==052A+5WZ2TDPAbliI7cmD60TpQn7NmcVHcK8L8i+0VDwf6Gts2H53gNF88k9aXTr/8j"
                class="apbct-email-encoder"
                title="This contact has been encoded by Anti-Spam by CleanTalk. Click to decode. To finish the decoding make sure that JavaScript is enabled in your browser.">25<span class="apbct-blur">*************************@ss**.hock</span>ey</span>
SUMMARY:U13 AA TC Skills 17:45 SSA
DESCRIPTION:U13 AA Traxx Coachlines | 200 Hockey @ South Side \n
URL:https://ssac.hockey/event/u13-aa-tc-skills-1745-ssa/
LOCATION:10525 72 Ave. NW\, Edmonton\, AB\, T6E 0Z7\, Canada
CATEGORIES:U13 AA,U13 AA Traxx Coachlines
END:VEVENT
BEGIN:VEVENT
DTSTART;TZID=America/Edmonton:20220122T194500
DTEND;TZID=America/Edmonton:20220122T211500
DTSTAMP:20260424T022050
CREATED:20211231T224407Z
LAST-MODIFIED:20211231T224407Z
UID:<span 
                data-original-string="GbTu6WS9q4GbR3sivY14RA==052LaG7Zjtkll+xLwX++JulC6iSID0WC+LkMAzm/+08xBUxQgn+cHnZbukVv3kAdU9H"
                class="apbct-email-encoder"
                title="This contact has been encoded by Anti-Spam by CleanTalk. Click to decode. To finish the decoding make sure that JavaScript is enabled in your browser.">24<span class="apbct-blur">*************************@ss**.hock</span>ey</span>
SUMMARY:U13 AA AW Game 19:45 MWB
DESCRIPTION:U13 AA ATB Wealth vs Sturgeon Sting @ Mill Woods B \n
URL:https://ssac.hockey/event/u13-aa-aw-game-1945-mwb/
LOCATION:7207 28 Ave NW\, Edmonton\, AB\, T6K 3Z3\, Canada
CATEGORIES:U13 AA,U13 AA ATB Wealth
END:VEVENT
END:VCALENDAR