BEGIN:VCALENDAR
VERSION:2.0
PRODID:-//SSAC Hockey - ECPv4.5.7//NONSGML v1.0//EN
CALSCALE:GREGORIAN
METHOD:PUBLISH
X-WR-CALNAME:SSAC Hockey
X-ORIGINAL-URL:https://ssac.hockey
X-WR-CALDESC:Events for SSAC Hockey
BEGIN:VEVENT
DTSTART;TZID=America/Edmonton:20220117T170000
DTEND;TZID=America/Edmonton:20220117T180000
DTSTAMP:20260423T165233
CREATED:20211231T225249Z
LAST-MODIFIED:20211231T225249Z
UID:<span 
                data-original-string="1F//GYm5Yh/W9De2bNlajg==052yhp653XZraEjxz9lQ+V8LnrEgE/URumo4EDab4a60dBbcbNBwjDqP/M5mrRf7qPu"
                class="apbct-email-encoder"
                title="This contact has been encoded by Anti-Spam by CleanTalk. Click to decode. To finish the decoding make sure that JavaScript is enabled in your browser.">25<span class="apbct-blur">*************************@ss**.hock</span>ey</span>
SUMMARY:U13 AA TC Skills 17:00 BHA
DESCRIPTION:U13 AA Traxx Coachlines | Quantum Speed @ Bill Hunter \n
URL:https://ssac.hockey/event/u13-aa-tc-skills-1700-bha-5/
LOCATION:9200 - 163 Street NW\, Edmonton\, AB\, T5R 2P3\, Canada
CATEGORIES:U13 AA,U13 AA Traxx Coachlines
END:VEVENT
BEGIN:VEVENT
DTSTART;TZID=America/Edmonton:20220117T193000
DTEND;TZID=America/Edmonton:20220117T203000
DTSTAMP:20260423T165233
CREATED:20211231T224233Z
LAST-MODIFIED:20211231T224233Z
UID:<span 
                data-original-string="l/A5fd02Axd+0QRsWt41FA==052GSk3op05LlBrDbIOU0uVgbbq0j010EzG+2E4qydM5XBuxr05wrOony0f5tQc0hIY"
                class="apbct-email-encoder"
                title="This contact has been encoded by Anti-Spam by CleanTalk. Click to decode. To finish the decoding make sure that JavaScript is enabled in your browser.">24<span class="apbct-blur">*************************@ss**.hock</span>ey</span>
SUMMARY:U13 AA AW Skills 19:30 TIA
DESCRIPTION:U13 AA ATB Wealth | Quantum Speed @ Tipton \n
URL:https://ssac.hockey/event/u13-aa-aw-skills-1930-tia-2/
LOCATION:10828 80 Ave NW\, Edmonton\, AB\, T6E 5B5\, Canada
CATEGORIES:U13 AA,U13 AA ATB Wealth
END:VEVENT
END:VCALENDAR