BEGIN:VCALENDAR
VERSION:2.0
PRODID:-//SSAC Hockey - ECPv4.5.7//NONSGML v1.0//EN
CALSCALE:GREGORIAN
METHOD:PUBLISH
X-WR-CALNAME:SSAC Hockey
X-ORIGINAL-URL:https://ssac.hockey
X-WR-CALDESC:Events for SSAC Hockey
BEGIN:VEVENT
DTSTART;TZID=America/Edmonton:20220114T171500
DTEND;TZID=America/Edmonton:20220114T181500
DTSTAMP:20260423T112504
CREATED:20211231T224819Z
LAST-MODIFIED:20211231T224819Z
UID:<span 
                data-original-string="ksqnDuk8U+yvSJ1PzVpG0g==052pB7iDFGDBSa6NRonUP3o0MqPwlCVQ5xcKH+Zs0HMZMzth4s4PyT6h4VtmwvP5SbZ"
                class="apbct-email-encoder"
                title="This contact has been encoded by Anti-Spam by CleanTalk. Click to decode. To finish the decoding make sure that JavaScript is enabled in your browser.">24<span class="apbct-blur">*************************@ss**.hock</span>ey</span>
SUMMARY:U13 AA IP Practice 17:15 TIA
DESCRIPTION:U13 AA Innovation Physio @ Tipton \n
URL:https://ssac.hockey/event/u13-aa-ip-practice-1715-tia/
LOCATION:10828 80 Ave NW\, Edmonton\, AB\, T6E 5B5\, Canada
CATEGORIES:U13 AA,U13 AA Innovation Physio
END:VEVENT
BEGIN:VEVENT
DTSTART;TZID=America/Edmonton:20220114T171500
DTEND;TZID=America/Edmonton:20220114T181500
DTSTAMP:20260423T112504
CREATED:20220110T183456Z
LAST-MODIFIED:20220110T183456Z
UID:<span 
                data-original-string="EQ7MwfXrfaIbBnjDUTH/+A==052uPDyj2NQxUJohenFqX0NzKMIL+wP1cWj/DbJ4qLmrFX+bCSTHnF4uAlHHr/bYIdn"
                class="apbct-email-encoder"
                title="This contact has been encoded by Anti-Spam by CleanTalk. Click to decode. To finish the decoding make sure that JavaScript is enabled in your browser.">25<span class="apbct-blur">*************************@ss**.hock</span>ey</span>
SUMMARY:U13 AA TC Practice 17:15 KEA
DESCRIPTION:U13 AA Traxx Coachlines @ Kenilworth \n
URL:https://ssac.hockey/event/u13-aa-tc-practice-1715-kea-3/
LOCATION:8313 68A St NW\, Edmonton\, AB\, T6B 0J9\, Canada
CATEGORIES:U13 AA,U13 AA Traxx Coachlines
END:VEVENT
END:VCALENDAR