BEGIN:VCALENDAR
VERSION:2.0
PRODID:-//SSAC Hockey - ECPv4.5.7//NONSGML v1.0//EN
CALSCALE:GREGORIAN
METHOD:PUBLISH
X-WR-CALNAME:SSAC Hockey
X-ORIGINAL-URL:https://ssac.hockey
X-WR-CALDESC:Events for SSAC Hockey
BEGIN:VEVENT
DTSTART;TZID=America/Edmonton:20220111T193000
DTEND;TZID=America/Edmonton:20220111T203000
DTSTAMP:20260423T054258
CREATED:20211231T224743Z
LAST-MODIFIED:20211231T224743Z
UID:<span 
                data-original-string="KGrpCMww0W2ZgllcqpIy3g==052RtScSyIY62T4aZl4G2ioO8PYE47EfJLwSfNWcdVzbYfPmQHR4m4L0WgypzTp+UeY"
                class="apbct-email-encoder"
                title="This contact has been encoded by Anti-Spam by CleanTalk. Click to decode. To finish the decoding make sure that JavaScript is enabled in your browser.">24<span class="apbct-blur">*************************@ss**.hock</span>ey</span>
SUMMARY:U13 AA IP Skills 19:30 WEM
DESCRIPTION:U13 AA Innovation Physio | Defensive Edge @ West Edmonton Mall Ice Palace \n
URL:https://ssac.hockey/event/u13-aa-ip-skills-1930-wem-10/
LOCATION:8882 170 St NW\, Edmonton\, AB\, T5T 4J2\, Canada
CATEGORIES:U13 AA,U13 AA Innovation Physio
END:VEVENT
BEGIN:VEVENT
DTSTART;TZID=America/Edmonton:20220111T193000
DTEND;TZID=America/Edmonton:20220111T210000
DTSTAMP:20260423T054258
CREATED:20211231T225415Z
LAST-MODIFIED:20211231T225415Z
UID:<span 
                data-original-string="2SGgRWlsdS1ztP05zavgrg==052QZFASuh0E/alPEtit4ajMxMiq/c2VsXsuKS38XAbs0HFQZCYA62c/gbliYZUFdje"
                class="apbct-email-encoder"
                title="This contact has been encoded by Anti-Spam by CleanTalk. Click to decode. To finish the decoding make sure that JavaScript is enabled in your browser.">25<span class="apbct-blur">*************************@ss**.hock</span>ey</span>
SUMMARY:U13 AA TC Game 19:30 MWB
DESCRIPTION:U13 AA Traxx Coachlines vs Sherwood Park Jets @ Mill Woods B \n
URL:https://ssac.hockey/event/u13-aa-tc-game-1930-mwb-2/
LOCATION:7207 28 Ave NW\, Edmonton\, AB\, T6K 3Z3\, Canada
CATEGORIES:U13 AA,U13 AA Traxx Coachlines
END:VEVENT
END:VCALENDAR