BEGIN:VCALENDAR
VERSION:2.0
PRODID:-//SSAC Hockey - ECPv4.5.7//NONSGML v1.0//EN
CALSCALE:GREGORIAN
METHOD:PUBLISH
X-WR-CALNAME:SSAC Hockey
X-ORIGINAL-URL:https://ssac.hockey
X-WR-CALDESC:Events for SSAC Hockey
BEGIN:VEVENT
DTSTART;TZID=America/Edmonton:20220110T170000
DTEND;TZID=America/Edmonton:20220110T180000
DTSTAMP:20260423T040010
CREATED:20211231T225249Z
LAST-MODIFIED:20211231T225249Z
UID:<span 
                data-original-string="/PWLd5oW5XHWkdJn6mWHEg==052qzpKNfCM7Jdok6AsFzQSPLuEYP3e42oSu2/MUgdYWLGvEoF2D8QwGW6T3WacZug6"
                class="apbct-email-encoder"
                title="This contact has been encoded by Anti-Spam by CleanTalk. Click to decode. To finish the decoding make sure that JavaScript is enabled in your browser.">25<span class="apbct-blur">*************************@ss**.hock</span>ey</span>
SUMMARY:U13 AA TC Skills 17:00 BHA
DESCRIPTION:U13 AA Traxx Coachlines | Quantum Speed @ Bill Hunter \n
URL:https://ssac.hockey/event/u13-aa-tc-skills-1700-bha-4/
LOCATION:9200 - 163 Street NW\, Edmonton\, AB\, T5R 2P3\, Canada
CATEGORIES:U13 AA,U13 AA Traxx Coachlines
END:VEVENT
BEGIN:VEVENT
DTSTART;TZID=America/Edmonton:20220110T183000
DTEND;TZID=America/Edmonton:20220110T200000
DTSTAMP:20260423T040010
CREATED:20211231T224338Z
LAST-MODIFIED:20211231T224338Z
UID:<span 
                data-original-string="t0I1ln52nCJraJKFUfvh7A==052TLZHfB1/cXFCoW2Zr9+tseoYkoCjqS6p3X9doDlHIwXgYtKBgSbGm2D94OGXP+lN"
                class="apbct-email-encoder"
                title="This contact has been encoded by Anti-Spam by CleanTalk. Click to decode. To finish the decoding make sure that JavaScript is enabled in your browser.">24<span class="apbct-blur">*************************@ss**.hock</span>ey</span>
SUMMARY:U13 AA AW Game 18:30 MWA
DESCRIPTION:U13 AA ATB Wealth vs MLAC Courville Consulting @ Kyle Fundytus Mill Woods A \n
URL:https://ssac.hockey/event/u13-aa-aw-game-1830-mwa-6/
LOCATION:7207 28 Ave NW\, Edmonton\, AB\, T6K 3Z3\, Canada
CATEGORIES:U13 AA,U13 AA ATB Wealth
END:VEVENT
BEGIN:VEVENT
DTSTART;TZID=America/Edmonton:20220110T193000
DTEND;TZID=America/Edmonton:20220110T203000
DTSTAMP:20260423T040010
CREATED:20211231T224712Z
LAST-MODIFIED:20211231T224712Z
UID:<span 
                data-original-string="DcUh8n/h8W9YJaVBMrrUMw==052/gHeFQyxFwV2xOSB0dA0aT+6GSd4n1kwlSHIiD1aB9837i9RXJlMbZ5dQgRz6273"
                class="apbct-email-encoder"
                title="This contact has been encoded by Anti-Spam by CleanTalk. Click to decode. To finish the decoding make sure that JavaScript is enabled in your browser.">24<span class="apbct-blur">*************************@ss**.hock</span>ey</span>
SUMMARY:U13 AA IP Skills 19:30 TIA
DESCRIPTION:U13 AA Innovation Physio | Quantum Speed @ Tipton \n
URL:https://ssac.hockey/event/u13-aa-ip-skills-1930-tia-3/
LOCATION:10828 80 Ave NW\, Edmonton\, AB\, T6E 5B5\, Canada
CATEGORIES:U13 AA,U13 AA Innovation Physio
END:VEVENT
END:VCALENDAR