BEGIN:VCALENDAR
VERSION:2.0
PRODID:-//SSAC Hockey - ECPv4.5.7//NONSGML v1.0//EN
CALSCALE:GREGORIAN
METHOD:PUBLISH
X-WR-CALNAME:SSAC Hockey
X-ORIGINAL-URL:https://ssac.hockey
X-WR-CALDESC:Events for SSAC Hockey
BEGIN:VEVENT
DTSTART;TZID=America/Edmonton:20220107T170000
DTEND;TZID=America/Edmonton:20220107T180000
DTSTAMP:20260422T220738
CREATED:20211231T224308Z
LAST-MODIFIED:20211231T224308Z
UID:<span 
                data-original-string="ZgeW1CDem/Z98j0U8Oid+g==052gx8cwjn/9mBB5W1v5tcTinRyPIKlXT266AHd6lT5jdQcW9um6GkscvwAyCl3W5Ni"
                class="apbct-email-encoder"
                title="This contact has been encoded by Anti-Spam by CleanTalk. Click to decode. To finish the decoding make sure that JavaScript is enabled in your browser.">24<span class="apbct-blur">*************************@ss**.hock</span>ey</span>
SUMMARY:U13 AA AW Practice 17:00 KMA
DESCRIPTION:U13 AA ATB Wealth @ Kinsmen A \n
URL:https://ssac.hockey/event/u13-aa-aw-practice-1700-kma-2/
LOCATION:1979 111 St NW\, Edmonton\, AB\, T6J 7C6\, Canada
CATEGORIES:U13 AA,U13 AA ATB Wealth
END:VEVENT
BEGIN:VEVENT
DTSTART;TZID=America/Edmonton:20220107T170000
DTEND;TZID=America/Edmonton:20220107T180000
DTSTAMP:20260422T220738
CREATED:20211231T224819Z
LAST-MODIFIED:20211231T224819Z
UID:<span 
                data-original-string="vTXbO+KDsmehctOZjDFEUA==052mwPgUewe/Nnx3C7OYdu6j86fBcFGSZjmbTDl0+kDNJv5i1jRIWcj0C+qlsL1o5ao"
                class="apbct-email-encoder"
                title="This contact has been encoded by Anti-Spam by CleanTalk. Click to decode. To finish the decoding make sure that JavaScript is enabled in your browser.">24<span class="apbct-blur">*************************@ss**.hock</span>ey</span>
SUMMARY:U13 AA IP Practice 17:00 MWA
DESCRIPTION:U13 AA Innovation Physio @ Kyle Fundytus Mill Woods A \n
URL:https://ssac.hockey/event/u13-aa-ip-practice-1700-mwa-2/
LOCATION:7207 28 Ave NW\, Edmonton\, AB\, T6K 3Z3\, Canada
CATEGORIES:U13 AA,U13 AA Innovation Physio
END:VEVENT
END:VCALENDAR