BEGIN:VCALENDAR
VERSION:2.0
PRODID:-//SSAC Hockey - ECPv4.5.7//NONSGML v1.0//EN
CALSCALE:GREGORIAN
METHOD:PUBLISH
X-WR-CALNAME:SSAC Hockey
X-ORIGINAL-URL:https://ssac.hockey
X-WR-CALDESC:Events for SSAC Hockey
BEGIN:VEVENT
DTSTART;TZID=America/Edmonton:20220104T183000
DTEND;TZID=America/Edmonton:20220104T200000
DTSTAMP:20260422T162723
CREATED:20211119T003313Z
LAST-MODIFIED:20211231T225347Z
UID:<span 
                data-original-string="6nWGRcO3nM9GcvgKgLX0TQ==052XxLiTDFN5BlYZGDrO3nXJnbvGYKH7Q0znuV65KjhZi9Kq0XfabruDDNn6fwzQ4J5"
                class="apbct-email-encoder"
                title="This contact has been encoded by Anti-Spam by CleanTalk. Click to decode. To finish the decoding make sure that JavaScript is enabled in your browser.">23<span class="apbct-blur">*************************@ss**.hock</span>ey</span>
SUMMARY:U13 AA TC Game 18:30 TCC
DESCRIPTION:U13 AA Traxx Coachlines vs CAC Mercedes Benz Edmonton West @ Terwillegar C \n
URL:https://ssac.hockey/event/u13-aa-tc-game-1830-tcc-3/
LOCATION:2051 Leger Rd NW\, Edmonton\, AB\, T6R 0R8\, Canada
CATEGORIES:U13 AA,U13 AA Traxx Coachlines
END:VEVENT
BEGIN:VEVENT
DTSTART;TZID=America/Edmonton:20220104T193000
DTEND;TZID=America/Edmonton:20220104T203000
DTSTAMP:20260422T162723
CREATED:20211231T224713Z
LAST-MODIFIED:20211231T224713Z
UID:<span 
                data-original-string="aN6nTAE2u321CvvEYimS+Q==052WSbR8Rqv/qJqBmWNcof4CpjESvkxXzqicdhVmYp8BpaVqLbFB2EtWttNM0P9xfGO"
                class="apbct-email-encoder"
                title="This contact has been encoded by Anti-Spam by CleanTalk. Click to decode. To finish the decoding make sure that JavaScript is enabled in your browser.">24<span class="apbct-blur">*************************@ss**.hock</span>ey</span>
SUMMARY:U13 AA IP Skills 19:30 WEM
DESCRIPTION:U13 AA Innovation Physio | Defensive Edge @ West Edmonton Mall Ice Palace \n
URL:https://ssac.hockey/event/u13-aa-ip-skills-1930-wem-9/
LOCATION:8882 170 St NW\, Edmonton\, AB\, T5T 4J2\, Canada
CATEGORIES:U13 AA,U13 AA Innovation Physio
END:VEVENT
END:VCALENDAR