BEGIN:VCALENDAR
VERSION:2.0
PRODID:-//SSAC Hockey - ECPv4.5.7//NONSGML v1.0//EN
CALSCALE:GREGORIAN
METHOD:PUBLISH
X-WR-CALNAME:SSAC Hockey
X-ORIGINAL-URL:https://ssac.hockey
X-WR-CALDESC:Events for SSAC Hockey
BEGIN:VEVENT
DTSTART;VALUE=DATE:20211230
DTEND;VALUE=DATE:20220102
DTSTAMP:20260422T074440
CREATED:20211208T022808Z
LAST-MODIFIED:20211230T200052Z
UID:<span 
                data-original-string="RK+1RLaq/7EgLqzpzXgV9A==052RkVDn3EaUe7i5kLiKeBykx8PTH+trFi5TPLRbsAoO0UTke5OCpBh/E9u5wWhfPt7"
                class="apbct-email-encoder"
                title="This contact has been encoded by Anti-Spam by CleanTalk. Click to decode. To finish the decoding make sure that JavaScript is enabled in your browser.">24<span class="apbct-blur">*************************@ss**.hock</span>ey</span>
SUMMARY:U13 AA IP Saskatoon Tournament —CANCELLED—
DESCRIPTION:U13 AA Innovation Physio @ Saskatoon Tournament \n
URL:https://ssac.hockey/event/u13-aa-ip-saskatoon-tournament/
CATEGORIES:U13 AA,U13 AA Innovation Physio
END:VEVENT
END:VCALENDAR