BEGIN:VCALENDAR
VERSION:2.0
PRODID:-//SSAC Hockey - ECPv4.5.7//NONSGML v1.0//EN
CALSCALE:GREGORIAN
METHOD:PUBLISH
X-WR-CALNAME:SSAC Hockey
X-ORIGINAL-URL:https://ssac.hockey
X-WR-CALDESC:Events for SSAC Hockey
BEGIN:VEVENT
DTSTART;VALUE=DATE:20211221
DTEND;VALUE=DATE:20211222
DTSTAMP:20260422T170047
CREATED:20211119T001906Z
LAST-MODIFIED:20211119T002412Z
UID:<span 
                data-original-string="qtgthNoxOCTaE5swiddQ9Q==052quzGCy6zpmpEf3VxgKgYxQdcOgvcwaciaf/GK0Apu5sGwe+NBRPqhGBKeSEoTug8"
                class="apbct-email-encoder"
                title="This contact has been encoded by Anti-Spam by CleanTalk. Click to decode. To finish the decoding make sure that JavaScript is enabled in your browser.">23<span class="apbct-blur">*************************@ss**.hock</span>ey</span>
SUMMARY:U13 AA AW SSAC Tournament
DESCRIPTION:U13 AA ATB Wealth @ SSAC Tournament | Terwillegar \n
URL:https://ssac.hockey/event/u13-aa-aw-ssac-tournament/
LOCATION:2051 Leger Rd NW\, Edmonton\, AB\, T6R 0R8\, Canada
CATEGORIES:U13 AA,U13 AA ATB Wealth
END:VEVENT
BEGIN:VEVENT
DTSTART;VALUE=DATE:20211221
DTEND;VALUE=DATE:20211222
DTSTAMP:20260422T170047
CREATED:20211119T003314Z
LAST-MODIFIED:20211119T003314Z
UID:<span 
                data-original-string="gI+g2ZNv/H6XbifFpv5XEQ==052MYQNPXS8WbC9cx5kVVc5eqBLRXWEMnJsZc7VKIwb6CnmRXAin0nmZlZR9dxT9wdA"
                class="apbct-email-encoder"
                title="This contact has been encoded by Anti-Spam by CleanTalk. Click to decode. To finish the decoding make sure that JavaScript is enabled in your browser.">23<span class="apbct-blur">*************************@ss**.hock</span>ey</span>
SUMMARY:U13 AA TC SSAC Tournament
DESCRIPTION:U13 AA Traxx Coachlines @ SSAC Tournament | Terwillegar \n
URL:https://ssac.hockey/event/u13-aa-tc-ssac-tournament/
LOCATION:2051 Leger Rd NW\, Edmonton\, AB\, T6R 0R8\, Canada
CATEGORIES:U13 AA,U13 AA Traxx Coachlines
END:VEVENT
BEGIN:VEVENT
DTSTART;TZID=America/Edmonton:20211221T193000
DTEND;TZID=America/Edmonton:20211221T203000
DTSTAMP:20260422T170047
CREATED:20211119T002747Z
LAST-MODIFIED:20211119T002747Z
UID:<span 
                data-original-string="G2FmF6AoGW8sOHiPxKkU5g==052h96z3FVLGwSVqr+RDQ1wlmBn+Jmc+SQBxgHFk/iTFV0mImJiTJVCtdmQmSl1wy0k"
                class="apbct-email-encoder"
                title="This contact has been encoded by Anti-Spam by CleanTalk. Click to decode. To finish the decoding make sure that JavaScript is enabled in your browser.">23<span class="apbct-blur">*************************@ss**.hock</span>ey</span>
SUMMARY:U13 AA IP Skills 19:30 WEM
DESCRIPTION:U13 AA Innovation Physio | Defensive Edge @ West Edmonton Mall Ice Palace \n
URL:https://ssac.hockey/event/u13-aa-ip-skills-1930-wem-3/
LOCATION:8882 170 St NW\, Edmonton\, AB\, T5T 4J2\, Canada
CATEGORIES:U13 AA,U13 AA Innovation Physio
END:VEVENT
END:VCALENDAR