BEGIN:VCALENDAR
VERSION:2.0
PRODID:-//SSAC Hockey - ECPv4.5.7//NONSGML v1.0//EN
CALSCALE:GREGORIAN
METHOD:PUBLISH
X-WR-CALNAME:SSAC Hockey
X-ORIGINAL-URL:https://ssac.hockey
X-WR-CALDESC:Events for SSAC Hockey
BEGIN:VEVENT
DTSTART;TZID=America/Edmonton:20211220T170000
DTEND;TZID=America/Edmonton:20211220T180000
DTSTAMP:20260422T185502
CREATED:20211119T003211Z
LAST-MODIFIED:20211213T185813Z
UID:<span 
                data-original-string="ooY3Epnqz78DvoPOfTfDAw==052Rm+0ke5k09BZsMueTN6ggsOIdWhULTBMkOGyMXPDUC47UQ5z4vbOmBFBPpc8pAG6"
                class="apbct-email-encoder"
                title="This contact has been encoded by Anti-Spam by CleanTalk. Click to decode. To finish the decoding make sure that JavaScript is enabled in your browser.">23<span class="apbct-blur">*************************@ss**.hock</span>ey</span>
SUMMARY:U13 AA TC Skills 17:00 BHA
DESCRIPTION:U13 AA Traxx Coachlines | Better Player @ Bill Hunter \n
URL:https://ssac.hockey/event/u13-aa-tc-skills-1700-bha-3/
LOCATION:9200 - 163 Street NW\, Edmonton\, AB\, T5R 2P3\, Canada
CATEGORIES:U13 AA,U13 AA Traxx Coachlines
END:VEVENT
BEGIN:VEVENT
DTSTART;TZID=America/Edmonton:20211220T193000
DTEND;TZID=America/Edmonton:20211220T203000
DTSTAMP:20260422T185502
CREATED:20211119T001813Z
LAST-MODIFIED:20211222T193103Z
UID:<span 
                data-original-string="j4M/EaGbipNTq1vo8RBnAw==052hk9UqW4Dmu6PKryp3A5OnQmwiSFdY0vVIYzOg+LeRtM7MxuvArKeXdpv3JephiX1"
                class="apbct-email-encoder"
                title="This contact has been encoded by Anti-Spam by CleanTalk. Click to decode. To finish the decoding make sure that JavaScript is enabled in your browser.">23<span class="apbct-blur">*************************@ss**.hock</span>ey</span>
SUMMARY:U13 AA AW Skills 19:30 TIA —CANCELLED—
DESCRIPTION:U13 AA ATB Wealth | Quantum Speed @ Tipton \n
URL:https://ssac.hockey/event/u13-aa-aw-skills-1930-tia/
LOCATION:10828 80 Ave NW\, Edmonton\, AB\, T6E 5B5\, Canada
CATEGORIES:U13 AA,U13 AA ATB Wealth
END:VEVENT
END:VCALENDAR