BEGIN:VCALENDAR
VERSION:2.0
PRODID:-//SSAC Hockey - ECPv4.5.7//NONSGML v1.0//EN
CALSCALE:GREGORIAN
METHOD:PUBLISH
X-WR-CALNAME:SSAC Hockey
X-ORIGINAL-URL:https://ssac.hockey
X-WR-CALDESC:Events for SSAC Hockey
BEGIN:VEVENT
DTSTART;TZID=America/Edmonton:20211219T183000
DTEND;TZID=America/Edmonton:20211219T193000
DTSTAMP:20260422T204253
CREATED:20211119T002720Z
LAST-MODIFIED:20211119T002720Z
UID:<span 
                data-original-string="WnabYdTnwjtDFKBBDmy7Ig==052BAaVMdMIoeCY0UFrH6+H5SAeanarXarHgswQiXa3yp6CGed1R8EWm8W0fu39QNOm"
                class="apbct-email-encoder"
                title="This contact has been encoded by Anti-Spam by CleanTalk. Click to decode. To finish the decoding make sure that JavaScript is enabled in your browser.">23<span class="apbct-blur">*************************@ss**.hock</span>ey</span>
SUMMARY:U13 AA IP Practice 18:30 CFA
DESCRIPTION:U13 AA Innovation Physio @ Confederation \n
URL:https://ssac.hockey/event/u13-aa-ip-practice-1830-cfa-3/
LOCATION:11204 43 Ave NW\, Edmonton\, AB\, T6J 2R3\, Canada
CATEGORIES:U13 AA,U13 AA Innovation Physio
END:VEVENT
BEGIN:VEVENT
DTSTART;TZID=America/Edmonton:20211219T194500
DTEND;TZID=America/Edmonton:20211219T204500
DTSTAMP:20260422T204253
CREATED:20211119T001813Z
LAST-MODIFIED:20211119T001813Z
UID:<span 
                data-original-string="TSqGQYnIW7XuuJ1ehhmBxw==052Pzmv80qFPB+jt6I3YrByTG8woGQzA4YA3jfBy9fLZpNgbOuLdYe+5WiZoD9w63md"
                class="apbct-email-encoder"
                title="This contact has been encoded by Anti-Spam by CleanTalk. Click to decode. To finish the decoding make sure that JavaScript is enabled in your browser.">23<span class="apbct-blur">*************************@ss**.hock</span>ey</span>
SUMMARY:U13 AA AW Practice 19:45 TCB
DESCRIPTION:U13 AA ATB Wealth @ Terwillegar B \n
URL:https://ssac.hockey/event/u13-aa-aw-practice-1945-tcb-4/
LOCATION:2051 Leger Rd NW\, Edmonton\, AB\, T6R 0R8\, Canada
CATEGORIES:U13 AA,U13 AA ATB Wealth
END:VEVENT
END:VCALENDAR