BEGIN:VCALENDAR
VERSION:2.0
PRODID:-//SSAC Hockey - ECPv4.5.7//NONSGML v1.0//EN
CALSCALE:GREGORIAN
METHOD:PUBLISH
X-WR-CALNAME:SSAC Hockey
X-ORIGINAL-URL:https://ssac.hockey
X-WR-CALDESC:Events for SSAC Hockey
BEGIN:VEVENT
DTSTART;TZID=America/Edmonton:20211218T110000
DTEND;TZID=America/Edmonton:20211218T131500
DTSTAMP:20260422T225528
CREATED:20211119T001906Z
LAST-MODIFIED:20211119T002412Z
UID:<span 
                data-original-string="uQ46Oj5fH03azKyDsmYCEw==052iFThhEJ/EvAVHPGhK7shN2Z/g606NHvxD90DDcYJ4H8S3lpeIeU3cfVxHVexCiLI"
                class="apbct-email-encoder"
                title="This contact has been encoded by Anti-Spam by CleanTalk. Click to decode. To finish the decoding make sure that JavaScript is enabled in your browser.">23<span class="apbct-blur">*************************@ss**.hock</span>ey</span>
SUMMARY:U13 AA AW Game 11:00 RRR
DESCRIPTION:U13 AA ATB Wealth at Sherwood Park Steel Kings @ Randy Rosen \n
URL:https://ssac.hockey/event/u13-aa-aw-game-1100-rrr/
LOCATION:2015 Oak St\, AB\, Sherwood Park\, T8A 0W9\, Canada
CATEGORIES:U13 AA,U13 AA ATB Wealth
END:VEVENT
BEGIN:VEVENT
DTSTART;TZID=America/Edmonton:20211218T151500
DTEND;TZID=America/Edmonton:20211218T164500
DTSTAMP:20260422T225528
CREATED:20211119T002848Z
LAST-MODIFIED:20211119T002848Z
UID:<span 
                data-original-string="gO0O44csnsWS1xSbHKrfow==052VssWGhHsOIMMxt/OqBjjdNcE1PyazLl6Pt2J74zAG5W6Smez7FWChOEIGqKO8zcV"
                class="apbct-email-encoder"
                title="This contact has been encoded by Anti-Spam by CleanTalk. Click to decode. To finish the decoding make sure that JavaScript is enabled in your browser.">23<span class="apbct-blur">*************************@ss**.hock</span>ey</span>
SUMMARY:U13 AA IP Game 15:15 MWB
DESCRIPTION:U13 AA Innovation Physio vs Beaumont Braves @ Mill Woods B \n
URL:https://ssac.hockey/event/u13-aa-ip-game-1515-mwb/
LOCATION:7207 28 Ave NW\, Edmonton\, AB\, T6K 3Z3\, Canada
CATEGORIES:U13 AA,U13 AA Innovation Physio
END:VEVENT
BEGIN:VEVENT
DTSTART;TZID=America/Edmonton:20211218T163000
DTEND;TZID=America/Edmonton:20211218T173000
DTSTAMP:20260422T225528
CREATED:20211119T003239Z
LAST-MODIFIED:20211119T003239Z
UID:<span 
                data-original-string="M+yYRgQSIHTuMyHmOo3JAQ==052bIC7g8p0VVdVLjCQRX0gQnTkkl+yYFSmxroWyhKuOG9adKV3UAnhjeL9vFbaR408"
                class="apbct-email-encoder"
                title="This contact has been encoded by Anti-Spam by CleanTalk. Click to decode. To finish the decoding make sure that JavaScript is enabled in your browser.">23<span class="apbct-blur">*************************@ss**.hock</span>ey</span>
SUMMARY:U13 AA TC Practice 16:30 SSA
DESCRIPTION:U13 AA Traxx Coachlines @ South Side \n
URL:https://ssac.hockey/event/u13-aa-tc-practice-1630-ssa-4/
LOCATION:10525 72 Ave. NW\, Edmonton\, AB\, T6E 0Z7\, Canada
CATEGORIES:U13 AA,U13 AA Traxx Coachlines
END:VEVENT
END:VCALENDAR