BEGIN:VCALENDAR
VERSION:2.0
PRODID:-//SSAC Hockey - ECPv4.5.7//NONSGML v1.0//EN
CALSCALE:GREGORIAN
METHOD:PUBLISH
X-WR-CALNAME:SSAC Hockey
X-ORIGINAL-URL:https://ssac.hockey
X-WR-CALDESC:Events for SSAC Hockey
BEGIN:VEVENT
DTSTART;TZID=America/Edmonton:20211215T190000
DTEND;TZID=America/Edmonton:20211215T203000
DTSTAMP:20260423T043802
CREATED:20211119T002848Z
LAST-MODIFIED:20211119T002848Z
UID:<span 
                data-original-string="02auZnp5b9sCsZe2IHwGcQ==052rzZ8fov4MU+/D0BF3PF5HOmaZfrNw5wel1wrB1EK2ajnbsj9EiC8nukP6kF94Xh8"
                class="apbct-email-encoder"
                title="This contact has been encoded by Anti-Spam by CleanTalk. Click to decode. To finish the decoding make sure that JavaScript is enabled in your browser.">23<span class="apbct-blur">*************************@ss**.hock</span>ey</span>
SUMMARY:U13 AA IP Game 19:00 CDB
DESCRIPTION:U13 AA Innovation Physio at MLAC Courville Consulting @ Castle Downs B \n
URL:https://ssac.hockey/event/u13-aa-ip-game-1900-cdb/
CATEGORIES:U13 AA,U13 AA Innovation Physio
END:VEVENT
END:VCALENDAR