BEGIN:VCALENDAR
VERSION:2.0
PRODID:-//SSAC Hockey - ECPv4.5.7//NONSGML v1.0//EN
CALSCALE:GREGORIAN
METHOD:PUBLISH
X-WR-CALNAME:SSAC Hockey
X-ORIGINAL-URL:https://ssac.hockey
X-WR-CALDESC:Events for SSAC Hockey
BEGIN:VEVENT
DTSTART;TZID=America/Edmonton:20211212T123000
DTEND;TZID=America/Edmonton:20211212T144500
DTSTAMP:20260423T100731
CREATED:20211119T001905Z
LAST-MODIFIED:20211119T002412Z
UID:<span 
                data-original-string="m5zJBrIUyIl1d8b53WbYqQ==052UGxu2JcgmtRlmGUf0Yxkocc5AnqDKvDufWlGr3p0kwfWBQM2ZWKcn7B4aZxCl1Np"
                class="apbct-email-encoder"
                title="This contact has been encoded by Anti-Spam by CleanTalk. Click to decode. To finish the decoding make sure that JavaScript is enabled in your browser.">23<span class="apbct-blur">*************************@ss**.hock</span>ey</span>
SUMMARY:U13 AA AW Game 12:30 KN1
DESCRIPTION:U13 AA ATB Wealth at Beaumont Braves @ Ken Nichol 1 \n
URL:https://ssac.hockey/event/u13-aa-aw-game-1230-kn1/
LOCATION:5303 50 St\, Beaumont\, AB\, T4X 1E5\, Canada
CATEGORIES:U13 AA,U13 AA ATB Wealth
END:VEVENT
BEGIN:VEVENT
DTSTART;TZID=America/Edmonton:20211212T183000
DTEND;TZID=America/Edmonton:20211212T193000
DTSTAMP:20260423T100731
CREATED:20211119T002719Z
LAST-MODIFIED:20211119T002719Z
UID:<span 
                data-original-string="WMW0YwRvJFkuIU5XQ1lQcg==052ArMecwOXG+z3XkfwPEoYSkjiNgpdP3X+2q3hqLi9D7253MO15hDHBDJDyjxt0ETM"
                class="apbct-email-encoder"
                title="This contact has been encoded by Anti-Spam by CleanTalk. Click to decode. To finish the decoding make sure that JavaScript is enabled in your browser.">23<span class="apbct-blur">*************************@ss**.hock</span>ey</span>
SUMMARY:U13 AA IP Practice 18:30 CFA
DESCRIPTION:U13 AA Innovation Physio @ Confederation \n
URL:https://ssac.hockey/event/u13-aa-ip-practice-1830-cfa-2/
LOCATION:11204 43 Ave NW\, Edmonton\, AB\, T6J 2R3\, Canada
CATEGORIES:U13 AA,U13 AA Innovation Physio
END:VEVENT
BEGIN:VEVENT
DTSTART;TZID=America/Edmonton:20211212T194500
DTEND;TZID=America/Edmonton:20211212T204500
DTSTAMP:20260423T100731
CREATED:20211119T003210Z
LAST-MODIFIED:20211119T003210Z
UID:<span 
                data-original-string="uLudSuLNaXwdagQbKH7ouA==052lhuUuJCDnkf0imy5JHEJZvnellXYZho3aA+gBCCgKbIigEXYPTlQkQFJ2xuKOzx6"
                class="apbct-email-encoder"
                title="This contact has been encoded by Anti-Spam by CleanTalk. Click to decode. To finish the decoding make sure that JavaScript is enabled in your browser.">23<span class="apbct-blur">*************************@ss**.hock</span>ey</span>
SUMMARY:U13 AA TC Practice 19:45 TCB
DESCRIPTION:U13 AA Traxx Coachlines @ Terwillegar B \n
URL:https://ssac.hockey/event/u13-aa-tc-practice-1945-tcb-3/
LOCATION:2051 Leger Rd NW\, Edmonton\, AB\, T6R 0R8\, Canada
CATEGORIES:U13 AA,U13 AA Traxx Coachlines
END:VEVENT
END:VCALENDAR