BEGIN:VCALENDAR
VERSION:2.0
PRODID:-//SSAC Hockey - ECPv4.5.7//NONSGML v1.0//EN
CALSCALE:GREGORIAN
METHOD:PUBLISH
X-WR-CALNAME:SSAC Hockey
X-ORIGINAL-URL:https://ssac.hockey
X-WR-CALDESC:Events for SSAC Hockey
BEGIN:VEVENT
DTSTART;TZID=America/Edmonton:20211211T151500
DTEND;TZID=America/Edmonton:20211211T164500
DTSTAMP:20260423T115748
CREATED:20211023T032355Z
LAST-MODIFIED:20211119T003313Z
UID:<span 
                data-original-string="qRt1y54KP7Ih6a9HuP1Elg==052lR9PQh/qafhuIpdwHQOriXO3pmwoAAs/DJmaQyq1qWwp6WkXehF78YzClzd1uVVF"
                class="apbct-email-encoder"
                title="This contact has been encoded by Anti-Spam by CleanTalk. Click to decode. To finish the decoding make sure that JavaScript is enabled in your browser.">22<span class="apbct-blur">*************************@ss**.hock</span>ey</span>
SUMMARY:U13 AA TC Game 15:15 MWB
DESCRIPTION:U13 AA Traxx Coachlines vs Camrose Vikings @ Mill Woods B \n
URL:https://ssac.hockey/event/u13-aa-tc-game-1515-mwb/
LOCATION:7207 28 Ave NW\, Edmonton\, AB\, T6K 3Z3\, Canada
CATEGORIES:U13 AA,U13 AA Traxx Coachlines
END:VEVENT
BEGIN:VEVENT
DTSTART;TZID=America/Edmonton:20211211T163000
DTEND;TZID=America/Edmonton:20211211T173000
DTSTAMP:20260423T115748
CREATED:20211023T030339Z
LAST-MODIFIED:20211119T002815Z
UID:<span 
                data-original-string="O2z79jTEjAoynJ8SexwrDg==052Zty7vM2immLvGB+N9N+yvW02lrRK+3YsjCRcxTWzdwUzOrENPlcYEDYR+dTL+C8G"
                class="apbct-email-encoder"
                title="This contact has been encoded by Anti-Spam by CleanTalk. Click to decode. To finish the decoding make sure that JavaScript is enabled in your browser.">22<span class="apbct-blur">*************************@ss**.hock</span>ey</span>
SUMMARY:U13 AA IP Practice 16:30 SSA
DESCRIPTION:U13 AA Innovation Physio @ South Side \n
URL:https://ssac.hockey/event/u13-aa-ip-practice-1630-ssa-6/
LOCATION:10525 72 Ave. NW\, Edmonton\, AB\, T6E 0Z7\, Canada
CATEGORIES:U13 AA,U13 AA Innovation Physio
END:VEVENT
END:VCALENDAR