BEGIN:VCALENDAR
VERSION:2.0
PRODID:-//SSAC Hockey - ECPv4.5.7//NONSGML v1.0//EN
CALSCALE:GREGORIAN
METHOD:PUBLISH
X-WR-CALNAME:SSAC Hockey
X-ORIGINAL-URL:https://ssac.hockey
X-WR-CALDESC:Events for SSAC Hockey
BEGIN:VEVENT
DTSTART;TZID=America/Edmonton:20260306T153000
DTEND;TZID=America/Edmonton:20260306T170000
DTSTAMP:20260422T182915
CREATED:20260303T021846Z
LAST-MODIFIED:20260303T021846Z
UID:<span 
                data-original-string="7pDVQ/wci3T7nLfqCP5p+g==052itDDP8AQ6R1l7T6S2GBXknb5ktoZu6b1BUFUui1QzsEMeGQbp551Z5NMLmm6nB2a"
                class="apbct-email-encoder"
                title="This contact has been encoded by Anti-Spam by CleanTalk. Click to decode. To finish the decoding make sure that JavaScript is enabled in your browser.">44<span class="apbct-blur">*************************@ss**.hock</span>ey</span>
SUMMARY:U11 AA HK Playoff Game #2 – Capital Division 15:30 DAY
DESCRIPTION:U11 AA ZerOne Hockeyology vs Sherwood Park Barons @ Daysland \n
URL:https://ssac.hockey/event/u11-aa-hk-playoff-game-2-capital-division-1530-day/
CATEGORIES:U11 AA,U11 AA ZerOne Hockeyology
END:VEVENT
END:VCALENDAR